BEGIN:VCALENDAR
VERSION:2.0
PRODID:-//wp-events-plugin.com//7.2.2.1//EN
TZID:Europe/Berlin
X-WR-TIMEZONE:Europe/Berlin
BEGIN:VEVENT
UID:2893@zappelino.de
DTSTART;TZID=Europe/Berlin:20260501T103000
DTEND;TZID=Europe/Berlin:20260501T110500
DTSTAMP:20260222T222557Z
URL:https://zappelino.de/veranstaltungen/3-2-1-liftoff-13/
SUMMARY:3-2-1 Liftoff!
DESCRIPTION:Eddie lebt auf einem Schrottplatz. Unser Hamster-Wissenschaftle
 r versucht sich in die dort ansässige Rattengemeinschaft zu integrieren\,
  aber niemand nimmt ihn ernst. Eines Tages hört Eddie einen Krach\, der a
 us seinem chaotischen Garten kommt. Wird Eddie es schaffen\, den Roboter\,
  der aus dem Himmel fiel zu reparieren und zurück zum Raumschiff zu bring
 en\, bevor es mit allen Roboterfreunden abfliegt? Das ist erst der Anfang 
 von Eddies großem Abenteuer. Sei bei Eddies Versuch dabei\, den Roboter u
 nd damit die Marsmission zu retten. Sei dabei wie Eddie die Tapferkeit und
  den Verstand aufbringt\, um in das Weltall zu fliegen und wieder zurück 
 zur Erde.\n\nAb 6 Jahren
ATTACH;FMTTYPE=image/jpeg:https://zappelino.de/wp-content/uploads/2026/02/
 screenshot-2026-02-22-at-23-16-41-3-2-1-liftoff-experimenta.jpg
CATEGORIES:Kino
LOCATION:Experimenta\, Experimenta Platz\, Heilbronn\, Deutschland
GEO:49.1442;9.21493
X-APPLE-STRUCTURED-LOCATION;VALUE=URI;X-ADDRESS=Experimenta Platz\, Heilbro
 nn\, Deutschland;X-APPLE-RADIUS=100;X-TITLE=Experimenta:geo:49.1442,9.2149
 3
END:VEVENT
BEGIN:VTIMEZONE
TZID:Europe/Berlin
X-LIC-LOCATION:Europe/Berlin
BEGIN:DAYLIGHT
DTSTART:20260329T030000
TZOFFSETFROM:+0100
TZOFFSETTO:+0200
TZNAME:CEST
END:DAYLIGHT
END:VTIMEZONE
END:VCALENDAR