BEGIN:VCALENDAR
VERSION:2.0
PRODID:-//wp-events-plugin.com//7.2.2.1//EN
TZID:Europe/Berlin
X-WR-TIMEZONE:Europe/Berlin
BEGIN:VEVENT
UID:3136@zappelino.de
DTSTART;TZID=Europe/Berlin:20260603T190000
DTEND;TZID=Europe/Berlin:20260603T201500
DTSTAMP:20260406T201612Z
URL:https://zappelino.de/veranstaltungen/afterwork-street-dance-moves-fuer
 -jugendliche-ab-12-jahren-und-erwachsene-2026-05-06-2026-05-13-2026-05-20-
 2026-05-27-2026-06-03/
SUMMARY:Afterwork - Street Dance Moves für Jugendliche ab 12 Jahren und Er
 wachsene
DESCRIPTION:
ATTACH;FMTTYPE=image/jpeg:https://zappelino.de/wp-content/uploads/2025/02/
 vhs-logo.jpg
CATEGORIES:Bewegung und Spielen
LOCATION:VHS Weinsberg\, Zehntgasse 10\, Weinsberg\, Deutschland
GEO:49.152277;9.286621
X-APPLE-STRUCTURED-LOCATION;VALUE=URI;X-ADDRESS=Zehntgasse 10\, Weinsberg\,
  Deutschland;X-APPLE-RADIUS=100;X-TITLE=VHS Weinsberg:geo:49.152277,9.2866
 21
END:VEVENT
BEGIN:VTIMEZONE
TZID:Europe/Berlin
X-LIC-LOCATION:Europe/Berlin
BEGIN:DAYLIGHT
DTSTART:20260329T030000
TZOFFSETFROM:+0100
TZOFFSETTO:+0200
TZNAME:CEST
END:DAYLIGHT
END:VTIMEZONE
END:VCALENDAR