BEGIN:VCALENDAR
VERSION:2.0
PRODID:-//wp-events-plugin.com//7.2.2.1//EN
TZID:Europe/Berlin
X-WR-TIMEZONE:Europe/Berlin
BEGIN:VEVENT
UID:2700@zappelino.de
DTSTART;TZID=Europe/Berlin:20260509T150000
DTEND;TZID=Europe/Berlin:20260509T161500
DTSTAMP:20260210T111826Z
URL:https://zappelino.de/veranstaltungen/aladdin-und-die-wunderlampe-aus-t
 ausendundeine-nacht-18/
SUMMARY:Aladdin und die Wunderlampe aus Tausendundeine Nacht
DESCRIPTION:ab ca. 5 Jahren
ATTACH;FMTTYPE=image/jpeg:https://zappelino.de/wp-content/uploads/2026/02/
 screenshot-2026-02-10-at-11-44-00-veranstaltungen-schwaebisch-hall-gerhard
 s-marionettentheater.jpg
CATEGORIES:Kindertheater, Kinderkonzert,Marionettentheater, Puppentheater,
 Kasperltheater
LOCATION:Theater im Schafstall\, Im Lindach 9\, Schwäbisch Hall\, 74523\, 
 Deutschland
GEO:49.108793;9.735973
X-APPLE-STRUCTURED-LOCATION;VALUE=URI;X-ADDRESS=Im Lindach 9\, Schwäbisch 
 Hall\, 74523\, Deutschland;X-APPLE-RADIUS=100;X-TITLE=Theater im Schafstal
 l:geo:49.108793,9.735973
END:VEVENT
BEGIN:VTIMEZONE
TZID:Europe/Berlin
X-LIC-LOCATION:Europe/Berlin
BEGIN:DAYLIGHT
DTSTART:20260329T030000
TZOFFSETFROM:+0100
TZOFFSETTO:+0200
TZNAME:CEST
END:DAYLIGHT
END:VTIMEZONE
END:VCALENDAR