BEGIN:VCALENDAR
VERSION:2.0
PRODID:-//wp-events-plugin.com//7.2.2.1//EN
TZID:Europe/Berlin
X-WR-TIMEZONE:Europe/Berlin
BEGIN:VEVENT
UID:3112@zappelino.de
DTSTART;TZID=Europe/Berlin:20260425T100000
DTEND;TZID=Europe/Berlin:20260425T140000
DTSTAMP:20260406T195710Z
URL:https://zappelino.de/veranstaltungen/alltagshelden-mutig-herausforderu
 ngen-begegnen-resilienztraining-fuer-kinder-im-alter-von-8-12-jahren/
SUMMARY:Alltagshelden: Mutig Herausforderungen begegnen Resilienztraining  
 für Kinder im Alter von 8 - 12 Jahren
DESCRIPTION:
ATTACH;FMTTYPE=image/jpeg:https://zappelino.de/wp-content/uploads/2025/02/
 vhs-logo.jpg
CATEGORIES:Bewegung und Spielen
LOCATION:VHS Wüstenrot\, Hauptstraße 11\, Wüstenrot\, 71543\, Deutschlan
 d
GEO:49.087112;9.472069
X-APPLE-STRUCTURED-LOCATION;VALUE=URI;X-ADDRESS=Hauptstraße 11\, Wüstenro
 t\, 71543\, Deutschland;X-APPLE-RADIUS=100;X-TITLE=VHS Wüstenrot:geo:49.0
 87112,9.472069
END:VEVENT
BEGIN:VTIMEZONE
TZID:Europe/Berlin
X-LIC-LOCATION:Europe/Berlin
BEGIN:DAYLIGHT
DTSTART:20260329T030000
TZOFFSETFROM:+0100
TZOFFSETTO:+0200
TZNAME:CEST
END:DAYLIGHT
END:VTIMEZONE
END:VCALENDAR