BEGIN:VCALENDAR
VERSION:2.0
PRODID:-//wp-events-plugin.com//7.2.2.1//EN
TZID:Europe/Berlin
X-WR-TIMEZONE:Europe/Berlin
BEGIN:VEVENT
UID:2258@zappelino.de
DTSTART;TZID=Europe/Berlin:20260422T100000
DTEND;TZID=Europe/Berlin:20260422T105000
DTSTAMP:20251215T220814Z
URL:https://zappelino.de/veranstaltungen/am-ende-eines-flusses-3/
SUMMARY:Am Ende eines Flusses
DESCRIPTION:\n\n\n\n\n\nÜber Teilen und Nehmen und dem Miteinander in dies
 er Welt\n\n\n\n\n\n\n\n\n\nOhne Worte\, doch mit starken\, poetischen Bild
 ern erzählt das Theaterstück vom fragilen Kreislauf des Lebens und der t
 iefen Verbundenheit zwischen Mensch und Natur. Es öffnet behutsam die Aug
 en für Klimaschutz und Artenvielfalt – und macht Mut zu einem Neuanfang
 .\nEigenproduktion vom Eppinger Figurentheater\n\n\n\n\n\n\n\n\nAb 4 bis 1
 4 Jahr\n\n\nDauer: 50 Minuten\n\n\n\n\n
ATTACH;FMTTYPE=image/jpeg:https://zappelino.de/wp-content/uploads/2025/12/
 am-ende-eine-flusses-7-web-1536x1024-1.webp
CATEGORIES:Kindertheater, Kinderkonzert
LOCATION:Eppinger Figurentheater\, Ludwig-Zorn-Straße 10\, Eppingen\, 7503
 1\, Deutschland
GEO:49.137392;8.907127
X-APPLE-STRUCTURED-LOCATION;VALUE=URI;X-ADDRESS=Ludwig-Zorn-Straße 10\, Ep
 pingen\, 75031\, Deutschland;X-APPLE-RADIUS=100;X-TITLE=Eppinger Figurenth
 eater:geo:49.137392,8.907127
END:VEVENT
BEGIN:VTIMEZONE
TZID:Europe/Berlin
X-LIC-LOCATION:Europe/Berlin
BEGIN:DAYLIGHT
DTSTART:20260329T030000
TZOFFSETFROM:+0100
TZOFFSETTO:+0200
TZNAME:CEST
END:DAYLIGHT
END:VTIMEZONE
END:VCALENDAR