BEGIN:VCALENDAR
VERSION:2.0
PRODID:-//wp-events-plugin.com//7.2.2.1//EN
TZID:Europe/Berlin
X-WR-TIMEZONE:Europe/Berlin
BEGIN:VEVENT
UID:2290@zappelino.de
DTSTART;TZID=Europe/Berlin:20260425T000000
DTEND;TZID=Europe/Berlin:20260906T000000
DTSTAMP:20260317T140142Z
URL:https://zappelino.de/veranstaltungen/andrea-pichl-deutsch-deutsch-erns
 t-franz-vogelmann-preis-fuer-skulptur-2026/
SUMMARY:Andrea Pichl. deutsch deutsch - ERNST FRANZ VOGELMANN-PREIS FÜR SK
 ULPTUR 2026
DESCRIPTION:Die Konzept-Bildhauerin Andrea Pichl erhält den Ernst Franz Vo
 gelmann-Preis für Skulptur 2026. Die renommierte Auszeichnung geht damit 
 erstmals an eine Künstlerin\, die in der DDR geboren und in Ost-Berlin au
 fgewachsen ist.
ATTACH;FMTTYPE=image/jpeg:https://zappelino.de/wp-content/uploads/2026/03/
 andrea-pichl-gartenlaube-gl-19-2024-vg-bild-kunst-bonn-2026-foto-marcus-ba
 hra.jpg
CATEGORIES:Bildung und Kultur
LOCATION:Kunsthalle Vogelmann\, Allee 28\, Heilbronn\, Deutschland
GEO:49.142556;9.223674
X-APPLE-STRUCTURED-LOCATION;VALUE=URI;X-ADDRESS=Allee 28\, Heilbronn\, Deut
 schland;X-APPLE-RADIUS=100;X-TITLE=Kunsthalle Vogelmann:geo:49.142556,9.22
 3674
END:VEVENT
BEGIN:VTIMEZONE
TZID:Europe/Berlin
X-LIC-LOCATION:Europe/Berlin
BEGIN:DAYLIGHT
DTSTART:20260329T030000
TZOFFSETFROM:+0100
TZOFFSETTO:+0200
TZNAME:CEST
END:DAYLIGHT
END:VTIMEZONE
END:VCALENDAR