BEGIN:VCALENDAR
VERSION:2.0
PRODID:-//wp-events-plugin.com//7.2.2.1//EN
TZID:Europe/Berlin
X-WR-TIMEZONE:Europe/Berlin
BEGIN:VEVENT
UID:3196@zappelino.de
DTSTART;TZID=Europe/Berlin:20260520T134500
DTEND;TZID=Europe/Berlin:20260520T151500
DTSTAMP:20260406T205708Z
URL:https://zappelino.de/veranstaltungen/audi-fertig-los-erlebnisfuehrung-
 fuer-kinder-von-7-12-jahren-2/
SUMMARY:Audi – Fertig – Los: Erlebnisführung für Kinder von 7-12 Jahr
 en
DESCRIPTION:
ATTACH;FMTTYPE=image/jpeg:https://zappelino.de/wp-content/uploads/2025/02/
 vhs-logo.jpg
CATEGORIES:Erlebnisführung
END:VEVENT
BEGIN:VTIMEZONE
TZID:Europe/Berlin
X-LIC-LOCATION:Europe/Berlin
BEGIN:DAYLIGHT
DTSTART:20260329T030000
TZOFFSETFROM:+0100
TZOFFSETTO:+0200
TZNAME:CEST
END:DAYLIGHT
END:VTIMEZONE
END:VCALENDAR