BEGIN:VCALENDAR
VERSION:2.0
PRODID:-//wp-events-plugin.com//7.2.2.1//EN
TZID:Europe/Berlin
X-WR-TIMEZONE:Europe/Berlin
BEGIN:VEVENT
UID:3209@zappelino.de
DTSTART;TZID=Europe/Berlin:20260927T140000
DTEND;TZID=Europe/Berlin:20260927T150000
DTSTAMP:20260410T132530Z
URL:https://zappelino.de/veranstaltungen/auf-den-spuren-von-kaiser-buerger
 -und-bettelmann-3/
SUMMARY:Auf den Spuren von Kaiser\, Bürger und Bettelmann
DESCRIPTION:Familienabenteur in Bad Wimpfen\nUnsere öffentliche Stadtführ
 ung "Auf den Spuren von Kaiser\, Bürger und Bettelmann" verspricht ein un
 terhaltsames und lehrreiches Erlebnis für Groß und Klein. Tretet ein in 
 die Welt vergangener Zeiten und entdeckt die faszinierende Geschichte unse
 rer Stadt.\n\nWährend dieser Führung werdet Ihr von einer erfahrenen Sta
 dtführerin begleitet\, die Euch zu den bedeutendsten Sehenswürdigkeiten 
 führt und Euch Geschichten über Kaiser\, Bürger und Bettelmann erzählt
 . Die Tour ist speziell für Familien mit Kindern konzipiert und bietet ei
 ne unterhaltsame Mischung aus Wissensvermittlung und interaktiven Erlebnis
 sen.\n\nDie Kinderführung startet um 14:00 Uhr bei der Tourist-Informatio
 n. Die Teilnahmegebühr inklusive der An- und Abreise im ÖPNV beträgt 7 
 Euro pro Kind und 14 EURO für die ganze Familie\, Kinder unter 6 Jahren s
 ind kostenfrei. Die Mindestteilnehmerzahl beträgt 4 Personen. Teilnehmerk
 arten gibt es online über www.eveeno.com/stadtfuehrungen-badwimpfen oder\
 , falls noch Plätze frei sind\, auch kurzfristig bar vor Ort in der Touri
 st-Information.\n\nInformation:\n\nKultur- und Tourist-Information Bad Wim
 pfen\nHauptstraße 45 | 74206 Bad Wimpfen\nTel. 07063/53230\ninfo@badwimpf
 en.org | www.badwimpfen.de\n\n&nbsp\;\n\n 
ATTACH;FMTTYPE=image/jpeg:https://zappelino.de/wp-content/uploads/2025/06/
 2014-auf-den-spuren-von-kaiser-buerger-und-bettelmann-pg.jpg
CATEGORIES:Erlebnisführung
END:VEVENT
BEGIN:VTIMEZONE
TZID:Europe/Berlin
X-LIC-LOCATION:Europe/Berlin
BEGIN:DAYLIGHT
DTSTART:20260329T030000
TZOFFSETFROM:+0100
TZOFFSETTO:+0200
TZNAME:CEST
END:DAYLIGHT
END:VTIMEZONE
END:VCALENDAR