BEGIN:VCALENDAR
VERSION:2.0
PRODID:-//wp-events-plugin.com//7.2.2.1//EN
TZID:Europe/Berlin
X-WR-TIMEZONE:Europe/Berlin
BEGIN:VEVENT
UID:2288@zappelino.de
DTSTART;TZID=Europe/Berlin:20260425T143000
DTEND;TZID=Europe/Berlin:20260425T153000
DTSTAMP:20260325T111422Z
URL:https://zappelino.de/veranstaltungen/ausstellungsrundgang-mit-der-kuen
 stlerin-andrea-pichl-und-kuratorin-dr-rita-e-taeuber-in-der-ausstellung-an
 drea-pichl-deutsch-deutsch-ernst-franz-vogelmann-preis-fuer-skulptur-2026/
SUMMARY:Ausstellungsrundgang mit der Künstlerin Andrea Pichl und Kuratorin
  Dr. Rita E. Täuber in der Ausstellung Andrea Pichl- deutsch deutsch - 
 Ernst Franz Vogelmann Preis für Skulptur 2026.
DESCRIPTION:Ausstellungsrundgang mit der Künstlerin Andrea Pichl und Kurat
 orin Dr. Rita E. Täuber in der Ausstellung Andrea Pichl- deutsch deutsch
  - Ernst Franz Vogelmann Preis für Skulptur 2026.\nDie Werke der in der 
 DDR sozialisierten Künstlerin beschäftigen sich mit Architektur\, Stadtp
 lanung und sozialen Räumen.\n\nEintritt und Rundgang frei\, ermöglicht d
 urch die Ernst Franz Vogelmann-Stiftung.
ATTACH;FMTTYPE=image/jpeg:https://zappelino.de/wp-content/uploads/2026/03/
 andrea-pichl-gartenlaube-gl-19-2024-vg-bild-kunst-bonn-2026-foto-marcus-ba
 hra.jpg
CATEGORIES:Bildung und Kultur
LOCATION:Kunsthalle Vogelmann\, Allee 28\, Heilbronn\, Deutschland
GEO:49.142556;9.223674
X-APPLE-STRUCTURED-LOCATION;VALUE=URI;X-ADDRESS=Allee 28\, Heilbronn\, Deut
 schland;X-APPLE-RADIUS=100;X-TITLE=Kunsthalle Vogelmann:geo:49.142556,9.22
 3674
END:VEVENT
BEGIN:VTIMEZONE
TZID:Europe/Berlin
X-LIC-LOCATION:Europe/Berlin
BEGIN:DAYLIGHT
DTSTART:20260329T030000
TZOFFSETFROM:+0100
TZOFFSETTO:+0200
TZNAME:CEST
END:DAYLIGHT
END:VTIMEZONE
END:VCALENDAR