BEGIN:VCALENDAR
VERSION:2.0
PRODID:-//wp-events-plugin.com//7.2.2.1//EN
TZID:Europe/Berlin
X-WR-TIMEZONE:Europe/Berlin
BEGIN:VEVENT
UID:2914@zappelino.de
DTSTART;TZID=Europe/Berlin:20260424T113000
DTEND;TZID=Europe/Berlin:20260424T150000
DTSTAMP:20260306T172427Z
URL:https://zappelino.de/veranstaltungen/baby-kindersachen-basar/
SUMMARY:Baby &amp\; Kindersachen Basar
DESCRIPTION:Verkauf von Baby &amp\; Kinderkleidung ab Geburt bis Gr. 164\,\
 nKinderschuhe\, Spielzeug\, Still-&amp\; Umstandsmode\, Kinderfahrzeuge\, 
 Kinderwägen und Autositze.\n\nExtra: Kräuter &amp\; Gemüsepflanzen\nSpe
 isen und Getränke werden angeboten - Kaffee &amp\; Kuchen auch zum Mitneh
 men
ATTACH;FMTTYPE=image/jpeg:https://zappelino.de/wp-content/uploads/2026/03/
 screenshot-2026-03-04-195843.jpg
CATEGORIES:Basar
LOCATION:Gemeindehaus Meimsheim\, Schießgraben 30\,  Brackenheim\, 74336\,
  Deutschland
X-APPLE-STRUCTURED-LOCATION;VALUE=URI;X-ADDRESS=Schießgraben 30\,  Bracken
 heim\, 74336\, Deutschland;X-APPLE-RADIUS=100;X-TITLE=Gemeindehaus Meimshe
 im:geo:0,0
END:VEVENT
BEGIN:VTIMEZONE
TZID:Europe/Berlin
X-LIC-LOCATION:Europe/Berlin
BEGIN:DAYLIGHT
DTSTART:20260329T030000
TZOFFSETFROM:+0100
TZOFFSETTO:+0200
TZNAME:CEST
END:DAYLIGHT
END:VTIMEZONE
END:VCALENDAR