BEGIN:VCALENDAR
VERSION:2.0
PRODID:-//wp-events-plugin.com//7.2.2.1//EN
TZID:Europe/Berlin
X-WR-TIMEZONE:Europe/Berlin
BEGIN:VEVENT
UID:2912@zappelino.de
DTSTART;TZID=Europe/Berlin:20260425T110000
DTEND;TZID=Europe/Berlin:20260425T130000
DTSTAMP:20260306T171855Z
URL:https://zappelino.de/veranstaltungen/basar-alles-rund-ums-kind/
SUMMARY:Basar - alles rund ums Kind
DESCRIPTION:Die katholische Kirchengemeinde St. Barbara\, Bad Friedrichshal
 l läd herzlich ein zum Basar im kath. Gemeindehaus in 74177 Bad Friedrich
 shall\, Tulpenweg.\nBei einer Tasse Kaffee und leckerem Kuchen lässt es s
 ich am\nSamstag den 25.04.2026\, von 11:00 Uhr bis 13:00 Uhr entspannt st
 öbern.\n\n\n
ATTACH;FMTTYPE=image/jpeg:https://zappelino.de/wp-content/uploads/2026/03/
 screenshot-2026-03-04-195843.jpg
CATEGORIES:Basar
LOCATION:kath. Gemeindehaus Sankt Barbara\, Tulpenweg\,  Bad Friedrichshall
  \, 74177\, Deutschland
GEO:49.23117;9.216054
X-APPLE-STRUCTURED-LOCATION;VALUE=URI;X-ADDRESS=Tulpenweg\,  Bad Friedrichs
 hall \, 74177\, Deutschland;X-APPLE-RADIUS=100;X-TITLE=kath. Gemeindehaus 
 Sankt Barbara:geo:49.23117,9.216054
END:VEVENT
BEGIN:VTIMEZONE
TZID:Europe/Berlin
X-LIC-LOCATION:Europe/Berlin
BEGIN:DAYLIGHT
DTSTART:20260329T030000
TZOFFSETFROM:+0100
TZOFFSETTO:+0200
TZNAME:CEST
END:DAYLIGHT
END:VTIMEZONE
END:VCALENDAR