BEGIN:VCALENDAR
VERSION:2.0
PRODID:-//wp-events-plugin.com//7.2.2.1//EN
TZID:Europe/Berlin
X-WR-TIMEZONE:Europe/Berlin
BEGIN:VEVENT
UID:2349@zappelino.de
DTSTART;TZID=Europe/Berlin:20260426T163000
DTEND;TZID=Europe/Berlin:20260426T170300
DTSTAMP:20260120T203400Z
URL:https://zappelino.de/veranstaltungen/blitzgescheit-live-33/
SUMMARY:Blitzgescheit – LIVE
DESCRIPTION:Komm mit in die Welt von Volt\, Ampere und elektrischen Impulse
 n: In „Blitzgescheit “ begleitest du Showstar Funke und Physikgenie Ei
 nstein auf eine energiegeladene Zeitreise. Was ist ein Blitz? Kann Strom d
 urch deinen Körper fließen? Und wie funktioniert ein Faradayscher Käfig
 ? Mit hochspannenden Experimenten gehen wir diesen Fragen auf den Grund. I
 n dem Spannungsfeld aus Humor\, Interaktion und Wissen werden dir garantie
 rt die Haare zu Berge stehen.\n\nThema Elektrizität\nAb 8 Jahren
ATTACH;FMTTYPE=image/jpeg:https://zappelino.de/wp-content/uploads/2025/04/
 screenshot-2025-04-14-at-21-04-04-blitzgescheit-live-experimenta.jpg
CATEGORIES:Bildung und Kultur
LOCATION:Experimenta\, Experimenta Platz\, Heilbronn\, Deutschland
GEO:49.1442;9.21493
X-APPLE-STRUCTURED-LOCATION;VALUE=URI;X-ADDRESS=Experimenta Platz\, Heilbro
 nn\, Deutschland;X-APPLE-RADIUS=100;X-TITLE=Experimenta:geo:49.1442,9.2149
 3
END:VEVENT
BEGIN:VTIMEZONE
TZID:Europe/Berlin
X-LIC-LOCATION:Europe/Berlin
BEGIN:DAYLIGHT
DTSTART:20260329T030000
TZOFFSETFROM:+0100
TZOFFSETTO:+0200
TZNAME:CEST
END:DAYLIGHT
END:VTIMEZONE
END:VCALENDAR