BEGIN:VCALENDAR
VERSION:2.0
PRODID:-//wp-events-plugin.com//7.2.2.1//EN
TZID:Europe/Berlin
X-WR-TIMEZONE:Europe/Berlin
BEGIN:VEVENT
UID:2835@zappelino.de
DTSTART;TZID=Europe/Berlin:20260426T143000
DTEND;TZID=Europe/Berlin:20260426T145600
DTSTAMP:20260222T214509Z
URL:https://zappelino.de/veranstaltungen/capcom-go-3d-92/
SUMMARY:Capcom Go! – 3D
DESCRIPTION:Dieses Fulldome-Erlebnis über die Apollo-Mission zum Mond im J
 uli 1969 versetzt dich zurück in die Zeit und mittels neuester 3D-Technik
  auch hautnah mitten hinein in das Geschehen von vor über 50 Jahren. „C
 apCom“\, kurz für „capsule communicator“\, ist der Titel einer sehr
  wichtigen Person in der bemannten Raumfahrt: Der „CapCom“ ist die Kon
 taktperson hier auf der Erde\, genauer gesagt in Houston\, für die Astron
 auten. Alle Astronauten in der Kapsel hören auf sein oder ihr „go“! I
 n CapCom GO! landest du mit Neil Armstrong und Buzz Aldrin auf dem Mond un
 d gehst mit ihnen den kleinen Schritt\, der ein großer für die Menschhei
 t ist.\n\nAb 8 Jahren.
ATTACH;FMTTYPE=image/jpeg:https://zappelino.de/wp-content/uploads/2026/02/
 screenshot-2026-02-22-at-22-36-37-capcom-go-3d-experimenta.jpg
CATEGORIES:Bildung und Kultur
LOCATION:Experimenta\, Experimenta Platz\, Heilbronn\, Deutschland
GEO:49.1442;9.21493
X-APPLE-STRUCTURED-LOCATION;VALUE=URI;X-ADDRESS=Experimenta Platz\, Heilbro
 nn\, Deutschland;X-APPLE-RADIUS=100;X-TITLE=Experimenta:geo:49.1442,9.2149
 3
END:VEVENT
BEGIN:VTIMEZONE
TZID:Europe/Berlin
X-LIC-LOCATION:Europe/Berlin
BEGIN:DAYLIGHT
DTSTART:20260329T030000
TZOFFSETFROM:+0100
TZOFFSETTO:+0200
TZNAME:CEST
END:DAYLIGHT
END:VTIMEZONE
END:VCALENDAR