BEGIN:VCALENDAR
VERSION:2.0
PRODID:-//wp-events-plugin.com//7.2.2.1//EN
TZID:Europe/Berlin
X-WR-TIMEZONE:Europe/Berlin
BEGIN:VEVENT
UID:3158@zappelino.de
DTSTART;TZID=Europe/Berlin:20260603T093000
DTEND;TZID=Europe/Berlin:20260603T113000
DTSTAMP:20260406T202447Z
URL:https://zappelino.de/veranstaltungen/computerclub-fuer-kids-in-den-pfi
 ngstferien-fuer-die-3-und-4-klasse-2026-05-27-2026-06-03/
SUMMARY:Computerclub für Kids in den Pfingstferien für die 3. und 4. Klas
 se
DESCRIPTION:
ATTACH;FMTTYPE=image/jpeg:https://zappelino.de/wp-content/uploads/2025/02/
 vhs-logo.jpg
CATEGORIES:Bildung und Kultur
LOCATION:VHS Brackenheim\, Heilbronner Str. 36\, Brackenheim\, Deutschland
GEO:49.078287;9.068485
X-APPLE-STRUCTURED-LOCATION;VALUE=URI;X-ADDRESS=Heilbronner Str. 36\, Brack
 enheim\, Deutschland;X-APPLE-RADIUS=100;X-TITLE=VHS Brackenheim:geo:49.078
 287,9.068485
END:VEVENT
BEGIN:VTIMEZONE
TZID:Europe/Berlin
X-LIC-LOCATION:Europe/Berlin
BEGIN:DAYLIGHT
DTSTART:20260329T030000
TZOFFSETFROM:+0100
TZOFFSETTO:+0200
TZNAME:CEST
END:DAYLIGHT
END:VTIMEZONE
END:VCALENDAR