BEGIN:VCALENDAR
VERSION:2.0
PRODID:-//wp-events-plugin.com//7.2.2.1//EN
TZID:Europe/Berlin
X-WR-TIMEZONE:Europe/Berlin
BEGIN:VEVENT
UID:2854@zappelino.de
DTSTART;TZID=Europe/Berlin:20260426T133000
DTEND;TZID=Europe/Berlin:20260426T135800
DTSTAMP:20260222T215527Z
URL:https://zappelino.de/veranstaltungen/das-geheimnis-der-jahreszeiten-3d
 -17/
SUMMARY:Das Geheimnis der Jahreszeiten – 3D
DESCRIPTION:Im Urlaub bei ihrem Großvater entdeckt ein kleines Mädchen na
 mens Mia zufällig ein mysteriöses Stück Weltraum-Technik. Edmund\, Mias
  exzentrischer Onkel\, stachelt das Mädchen dazu an\, die geheimen Kräft
 e dieser Weltraum-Technik zu nutzen\, um die Jahreszeiten auf der Welt zu 
 manipulieren. Schnell ist sich Mia der Konsequenzen ihres Handelns bewusst
  aber Onkel Edmund will seinen Plan nicht aufgeben. Magic Globe ist eine m
 itreißende Geschichte mit einer verständlichen Storyline rund um die Jah
 reszeiten\, den Wechsel von Tag und Nacht\, das Wetter und vieles mehr\, w
 as das tägliche Leben auf unserem Planeten beeinflusst.\n\nAb 6 Jahren
ATTACH;FMTTYPE=image/jpeg:https://zappelino.de/wp-content/uploads/2026/02/
 screenshot-2026-02-22-at-22-47-02-das-geheimnis-der-jahreszeiten-3d-experi
 menta.jpg
CATEGORIES:Kino
LOCATION:Experimenta\, Experimenta Platz\, Heilbronn\, Deutschland
GEO:49.1442;9.21493
X-APPLE-STRUCTURED-LOCATION;VALUE=URI;X-ADDRESS=Experimenta Platz\, Heilbro
 nn\, Deutschland;X-APPLE-RADIUS=100;X-TITLE=Experimenta:geo:49.1442,9.2149
 3
END:VEVENT
BEGIN:VTIMEZONE
TZID:Europe/Berlin
X-LIC-LOCATION:Europe/Berlin
BEGIN:DAYLIGHT
DTSTART:20260329T030000
TZOFFSETFROM:+0100
TZOFFSETTO:+0200
TZNAME:CEST
END:DAYLIGHT
END:VTIMEZONE
END:VCALENDAR