BEGIN:VCALENDAR
VERSION:2.0
PRODID:-//wp-events-plugin.com//7.2.2.1//EN
TZID:Europe/Berlin
X-WR-TIMEZONE:Europe/Berlin
BEGIN:VEVENT
UID:2705@zappelino.de
DTSTART;TZID=Europe/Berlin:20260707T103000
DTEND;TZID=Europe/Berlin:20260707T113000
DTSTAMP:20260213T115231Z
URL:https://zappelino.de/veranstaltungen/das-wunschmaennchen-2/
SUMMARY:Das Wunschmännchen
DESCRIPTION:Kai\, ein kleiner Junge ist sehr unzufrieden. Das Wetter ist sc
 hlecht\, die Eltern schimpfen und langweilig ist es zudem.\nIm Traum ersch
 eint ihm das „Wunschmännchen“ und erfüllt ihm seine Wünsche.  Weil
  er aber seine Wünsche etwas übertreibt\, entwickeln sich diese ganz and
 ers\, als er es sich vorgestellt hat.\nUnd so ist er sehr erleichtert als 
 er aufwachen darf.\n\nFür Kinder ab 4 Jahren.
ATTACH;FMTTYPE=image/jpeg:https://zappelino.de/wp-content/uploads/2026/02/
 screenshot-2026-02-13-at-12-43-44-juli-2026.jpg
CATEGORIES:Bildung und Kultur,Kindertheater,
 Kinderkonzert,Marionettentheater, Puppentheater, Kasperltheater,Theater
LOCATION:Knurps Puppentheater\, Hauptstraße 21 (Notariatsgebäude)\, Möck
 mühl\, 74219 \, Deutschland
GEO:49.323113;9.360867
X-APPLE-STRUCTURED-LOCATION;VALUE=URI;X-ADDRESS=Hauptstraße 21 (Notariatsg
 ebäude)\, Möckmühl\, 74219 \, Deutschland;X-APPLE-RADIUS=100;X-TITLE=Kn
 urps Puppentheater:geo:49.323113,9.360867
END:VEVENT
BEGIN:VTIMEZONE
TZID:Europe/Berlin
X-LIC-LOCATION:Europe/Berlin
BEGIN:DAYLIGHT
DTSTART:20260329T030000
TZOFFSETFROM:+0100
TZOFFSETTO:+0200
TZNAME:CEST
END:DAYLIGHT
END:VTIMEZONE
END:VCALENDAR