BEGIN:VCALENDAR
VERSION:2.0
PRODID:-//wp-events-plugin.com//7.2.2.1//EN
TZID:Europe/Berlin
X-WR-TIMEZONE:Europe/Berlin
BEGIN:VEVENT
UID:3228@zappelino.de
DTSTART;TZID=Europe/Berlin:20260426T153000
DTEND;TZID=Europe/Berlin:20260426T160000
DTSTAMP:20260419T194711Z
URL:https://zappelino.de/veranstaltungen/der-froschkoenig-2/
SUMMARY:Der Froschkönig
DESCRIPTION:Märchentheater für die ganze Familie\n\n\n\n\n\n\n\n\nFrei na
 ch dem Grimm’schen Märchen.\n\nDie jüngste und schönste Tochter des K
 önigs erhält von ihrem Vater als Geschenk eine goldene Kugel. Als sie da
 mit im Schlossgarten spielt\, fällt ihr die Kugel in den Brunnen. Die Pri
 nzessin weint bitterlich\, da taucht ein Frosch auf und bietet an\, die Ku
 gel zurückzuholen. Dafür muss sie ihm versprechen\, seine Spielkameradin
  zu werden. Die Prinzessin gibt das Versprechen\, denkt aber nicht daran\,
  es zu halten…\n\nWitzig und einfallsreich wird hier eines der spannends
 ten Märchen neu dargestellt.\n\n\n\n\n\n\n
ATTACH;FMTTYPE=image/jpeg:https://zappelino.de/wp-content/uploads/2026/04/
 froschkoenig-koenig-prinzessin-o.jpg
CATEGORIES:Kindertheater, Kinderkonzert
LOCATION:Galli Theater\, Oelberg 12\, Backnang\, 71522\, Deutschland
GEO:48.946512;9.431521
X-APPLE-STRUCTURED-LOCATION;VALUE=URI;X-ADDRESS=Oelberg 12\, Backnang\, 715
 22\, Deutschland;X-APPLE-RADIUS=100;X-TITLE=Galli Theater:geo:48.946512,9.
 431521
END:VEVENT
BEGIN:VTIMEZONE
TZID:Europe/Berlin
X-LIC-LOCATION:Europe/Berlin
BEGIN:DAYLIGHT
DTSTART:20260329T030000
TZOFFSETFROM:+0100
TZOFFSETTO:+0200
TZNAME:CEST
END:DAYLIGHT
END:VTIMEZONE
END:VCALENDAR