BEGIN:VCALENDAR
VERSION:2.0
PRODID:-//wp-events-plugin.com//7.2.2.1//EN
TZID:Europe/Berlin
X-WR-TIMEZONE:Europe/Berlin
BEGIN:VEVENT
UID:2661@zappelino.de
DTSTART;TZID=Europe/Berlin:20260519T100000
DTEND;TZID=Europe/Berlin:20260519T111500
DTSTAMP:20260210T095501Z
URL:https://zappelino.de/veranstaltungen/der-gestiefelte-kater-2/
SUMMARY:Der gestiefelte Kater
DESCRIPTION:Kinder- und Familienstück (ab 6 Jahren)\n\nDas Grimmsche Märc
 hen erzählt die Geschichte vom armen Müllersohn. Seine Brüder erben vie
 l\, er vom Vater aber nur einen Kater. Der aber überaus klug und gewitzt 
 ist und weiß\, dass zu einem erfolgreichen Auftreten in der Welt vor alle
 m gute Stiefel gehören. Zudem muss ein König regieren\, der eine kluge u
 nd schöne Tochter und einen Heißhunger auf Rebhühner\, aber keine gesch
 ickten Jäger an seinem Hofstaat hat. Und zuletzt braucht's einen machthun
 grigen Zauberer mit großen Ländereien und einem gewaltigen Schloss\, der
  bei aller Zauberkunst nicht bedenkt\, wie gern Katzen Mäuse fressen. Zum
  guten Ende gelingt dem Kater alles und sein armer Müllersohn und die Pri
 nzessin leben glücklich und wenn sie nicht gestorben sind … Der Kater a
 ber wird zeitlebens seine Stiefel tragen und erster Minister im Staate sei
 n.\n\nDie überaus witzige Neufassung des Märchens wird wiederum mit viel
  Musik und zahlreichen Songs von Dominik Dittrich präsentiert.
ATTACH;FMTTYPE=image/jpeg:https://zappelino.de/wp-content/uploads/2026/02/
 gestiefelterkater.jpg
CATEGORIES:Bildung und Kultur,Kindertheater,
 Kinderkonzert,Kreatives,Theater
LOCATION:Freilichtspiele Schwäbisch Hall\,  Unterwöhrd 1\, Schwäbisch Ha
 ll\, 74523\, Deutschland
GEO:49.109627;9.737074
X-APPLE-STRUCTURED-LOCATION;VALUE=URI;X-ADDRESS= Unterwöhrd 1\, Schwäbisc
 h Hall\, 74523\, Deutschland;X-APPLE-RADIUS=100;X-TITLE=Freilichtspiele Sc
 hwäbisch Hall:geo:49.109627,9.737074
END:VEVENT
BEGIN:VTIMEZONE
TZID:Europe/Berlin
X-LIC-LOCATION:Europe/Berlin
BEGIN:DAYLIGHT
DTSTART:20260329T030000
TZOFFSETFROM:+0100
TZOFFSETTO:+0200
TZNAME:CEST
END:DAYLIGHT
END:VTIMEZONE
END:VCALENDAR