BEGIN:VCALENDAR
VERSION:2.0
PRODID:-//wp-events-plugin.com//7.2.2.1//EN
TZID:Europe/Berlin
X-WR-TIMEZONE:Europe/Berlin
BEGIN:VEVENT
UID:2870@zappelino.de
DTSTART;TZID=Europe/Berlin:20260425T143000
DTEND;TZID=Europe/Berlin:20260425T145900
DTSTAMP:20260222T220648Z
URL:https://zappelino.de/veranstaltungen/der-kleine-major-tom-aufbruch-ins
 -ungewisse-22/
SUMMARY:Der kleine Major Tom – Aufbruch ins Ungewisse
DESCRIPTION:\n\n\nIm Jahr 2050 trainieren die Teenager Tom und Stella das L
 eben als Astronaut und Astronautin an Bord von Space Camp 1. Noch bevor To
 m seinen ersten Weltraumspaziergang absolvieren kann\, wird sein Vater zur
  Erde zurückgerufen\; der Klimawandel verursacht einer der gefährlichste
 n Hurrikans und zu dessen Überwachung muss ein Wettersatellit dringend zu
 m Laufen gebracht werden. Tom und Stella sind das einzige verfügbare Team
  und so stellen sich die beiden gemeinsam mit ihrer Roboterkatze Plutinche
 n den Herausforderungen. Die Zeit wird knapp\, Leben müssen gerettet werd
 en.\n\nAb 6 Jahren\n\n\n
ATTACH;FMTTYPE=image/jpeg:https://zappelino.de/wp-content/uploads/2025/04/
 screenshot-2025-04-14-at-20-51-01-der-kleine-major-tom-aufbruch-ins-ungewi
 sse-experimenta.jpg
CATEGORIES:Kino
LOCATION:Experimenta\, Experimenta Platz\, Heilbronn\, Deutschland
GEO:49.1442;9.21493
X-APPLE-STRUCTURED-LOCATION;VALUE=URI;X-ADDRESS=Experimenta Platz\, Heilbro
 nn\, Deutschland;X-APPLE-RADIUS=100;X-TITLE=Experimenta:geo:49.1442,9.2149
 3
END:VEVENT
BEGIN:VTIMEZONE
TZID:Europe/Berlin
X-LIC-LOCATION:Europe/Berlin
BEGIN:DAYLIGHT
DTSTART:20260329T030000
TZOFFSETFROM:+0100
TZOFFSETTO:+0200
TZNAME:CEST
END:DAYLIGHT
END:VTIMEZONE
END:VCALENDAR