BEGIN:VCALENDAR
VERSION:2.0
PRODID:-//wp-events-plugin.com//7.2.2.1//EN
TZID:Europe/Berlin
X-WR-TIMEZONE:Europe/Berlin
BEGIN:VEVENT
UID:2710@zappelino.de
DTSTART;TZID=Europe/Berlin:20260723T103000
DTEND;TZID=Europe/Berlin:20260723T113000
DTSTAMP:20260213T120836Z
URL:https://zappelino.de/veranstaltungen/der-rumpelstilz-4/
SUMMARY:Der Rumpelstilz
DESCRIPTION:Ein Spiel\, frei nach dem Märchen der Gebrüder Grimm\, mit  
 Stockhandpuppen und Maske.\nDas bekannte Märchen eines Gnoms\, der einer\
 nMüllertochter hilft Stroh zu Gold zu spinnen und ihr\nsomit das Leben re
 ttet und zum Thron verhilft.\nAllerdings will er dafür seinen Lohn.\nAls 
 Bühne dient ein Leiterwagen der mit wenigen Handgriffen von der Mühle zu
 m Stall\, und vom Stall zum Schloss umgewandelt wird.\nEs ist ein Schauspi
 el mit Stabhandpuppen und Maske.  Mit „...einer geballten Ladung Komik.
 ..“ (Zitat Heilbronner Stimme) und unter kräftiger Hilfe des Publikums 
 wird das Märchen zu dem Punkt gebracht\, wo es heißt: „...und wenn sie
  nicht gestorben sind....\n\nFür Kinder ab 4 Jahren.\n\n&nbsp\;
ATTACH;FMTTYPE=image/jpeg:https://zappelino.de/wp-content/uploads/2026/02/
 screenshot-2026-02-13-at-13-05-24-juli-2026.jpg
CATEGORIES:Bildung und Kultur,Kindertheater,
 Kinderkonzert,Marionettentheater, Puppentheater, Kasperltheater,Theater
LOCATION:Knurps Puppentheater\, Hauptstraße 21 (Notariatsgebäude)\, Möck
 mühl\, 74219 \, Deutschland
GEO:49.323113;9.360867
X-APPLE-STRUCTURED-LOCATION;VALUE=URI;X-ADDRESS=Hauptstraße 21 (Notariatsg
 ebäude)\, Möckmühl\, 74219 \, Deutschland;X-APPLE-RADIUS=100;X-TITLE=Kn
 urps Puppentheater:geo:49.323113,9.360867
END:VEVENT
BEGIN:VTIMEZONE
TZID:Europe/Berlin
X-LIC-LOCATION:Europe/Berlin
BEGIN:DAYLIGHT
DTSTART:20260329T030000
TZOFFSETFROM:+0100
TZOFFSETTO:+0200
TZNAME:CEST
END:DAYLIGHT
END:VTIMEZONE
END:VCALENDAR