BEGIN:VCALENDAR
VERSION:2.0
PRODID:-//wp-events-plugin.com//7.2.2.1//EN
TZID:Europe/Berlin
X-WR-TIMEZONE:Europe/Berlin
BEGIN:VEVENT
UID:2707@zappelino.de
DTSTART;TZID=Europe/Berlin:20260714T150000
DTEND;TZID=Europe/Berlin:20260714T160000
DTSTAMP:20260213T120251Z
URL:https://zappelino.de/veranstaltungen/der-sprechende-hund-3/
SUMMARY:Der sprechende Hund
DESCRIPTION:Der kleine Willi und sein Hund Schuschu verirren sich im Land d
 er blauen Kicherhexen.\n\nSie begegnen der Hexe Tuzugut\, die\, ausgeschlo
 ssen von den anderen Hexen\, am Rande dieses Landes lebt. Ausgeschlossen u
 nd verlacht\, weil sie nämlich eines nicht beherrscht\, das Zaubern. Will
 i und Schuschu sind für sie willkommene Übungsobjekte. Ob sie wohl jemal
 s wieder heil aus dem Kicherland entkommen können? Wenn\, dann nur mit Hi
 lfe der Kinder!\n\nFür Kinder ab 4 Jahren.
ATTACH;FMTTYPE=image/jpeg:https://zappelino.de/wp-content/uploads/2026/02/
 screenshot-2026-02-13-at-13-01-02-juli-2026.jpg
CATEGORIES:Bildung und Kultur,Kindertheater,
 Kinderkonzert,Marionettentheater, Puppentheater, Kasperltheater,Theater
LOCATION:Knurps Puppentheater\, Hauptstraße 21 (Notariatsgebäude)\, Möck
 mühl\, 74219 \, Deutschland
GEO:49.323113;9.360867
X-APPLE-STRUCTURED-LOCATION;VALUE=URI;X-ADDRESS=Hauptstraße 21 (Notariatsg
 ebäude)\, Möckmühl\, 74219 \, Deutschland;X-APPLE-RADIUS=100;X-TITLE=Kn
 urps Puppentheater:geo:49.323113,9.360867
END:VEVENT
BEGIN:VTIMEZONE
TZID:Europe/Berlin
X-LIC-LOCATION:Europe/Berlin
BEGIN:DAYLIGHT
DTSTART:20260329T030000
TZOFFSETFROM:+0100
TZOFFSETTO:+0200
TZNAME:CEST
END:DAYLIGHT
END:VTIMEZONE
END:VCALENDAR