BEGIN:VCALENDAR
VERSION:2.0
PRODID:-//wp-events-plugin.com//7.2.2.1//EN
TZID:Europe/Berlin
X-WR-TIMEZONE:Europe/Berlin
BEGIN:VEVENT
UID:3160@zappelino.de
DTSTART;TZID=Europe/Berlin:20260527T130000
DTEND;TZID=Europe/Berlin:20260527T160000
DTSTAMP:20260406T202605Z
URL:https://zappelino.de/veranstaltungen/desserts-im-sommer-fuer-teens-von
 -10-14-jahren/
SUMMARY:Desserts im Sommer für Teens von 10 - 14 Jahren
DESCRIPTION:
ATTACH;FMTTYPE=image/jpeg:https://zappelino.de/wp-content/uploads/2025/02/
 vhs-logo.jpg
CATEGORIES:Kulinarisches
LOCATION:VHS Nordheim\, Hauptstraße 26\, Nordheim\, Deutschland
GEO:49.108327;9.128371
X-APPLE-STRUCTURED-LOCATION;VALUE=URI;X-ADDRESS=Hauptstraße 26\, Nordheim\
 , Deutschland;X-APPLE-RADIUS=100;X-TITLE=VHS Nordheim:geo:49.108327,9.1283
 71
END:VEVENT
BEGIN:VTIMEZONE
TZID:Europe/Berlin
X-LIC-LOCATION:Europe/Berlin
BEGIN:DAYLIGHT
DTSTART:20260329T030000
TZOFFSETFROM:+0100
TZOFFSETTO:+0200
TZNAME:CEST
END:DAYLIGHT
END:VTIMEZONE
END:VCALENDAR