BEGIN:VCALENDAR
VERSION:2.0
PRODID:-//wp-events-plugin.com//7.2.2.1//EN
TZID:Europe/Berlin
X-WR-TIMEZONE:Europe/Berlin
BEGIN:VEVENT
UID:2800@zappelino.de
DTSTART;TZID=Europe/Berlin:20260426T113000
DTEND;TZID=Europe/Berlin:20260426T120200
DTSTAMP:20260222T212505Z
URL:https://zappelino.de/veranstaltungen/die-chemie-des-lebens-3d-10/
SUMMARY:Die Chemie des Lebens – 3D
DESCRIPTION:\n\n\nWas haben alle lebenden Dinge gemeinsam? Wie klein sind M
 oleküle wirklich? Was passiert in unseren Zellen\, nachdem wir etwas gege
 ssen haben? In „Chemie des Lebens“ wirst du auf ein Abenteuer gehen\, 
 um Antworten auf diese Fragen und viele mehr zu finden. Der Film ermöglic
 ht es dir\, die molekulare Welt auf völlig neue Weise zu erleben und konz
 entriert sich auf chemische Prozesse\, die für alles Leben auf der Erde u
 nerlässlich sind. Außerdem kannst du erleben\, wie es ist\, aus einer El
 ektronenkanone in einem Elektronenmikroskop geschossen zu werden\, tief in
  ein Blatt hineinzureisen und im neuronalen Netzwerk des menschlichen Gehi
 rns zu schweben. Produziert vom Norrköping Visualization Center C im Rahm
 en des WISDOME Projekts.\n\nAb 10 Jahren\n\n\n
ATTACH;FMTTYPE=image/jpeg:https://zappelino.de/wp-content/uploads/2025/04/
 screenshot-2025-04-08-at-20-57-50-die-chemie-des-lebens-3d-das-unsichtbare
 -in-uns-experimenta.jpg
CATEGORIES:Bildung und Kultur
LOCATION:Experimenta\, Experimenta Platz\, Heilbronn\, Deutschland
GEO:49.1442;9.21493
X-APPLE-STRUCTURED-LOCATION;VALUE=URI;X-ADDRESS=Experimenta Platz\, Heilbro
 nn\, Deutschland;X-APPLE-RADIUS=100;X-TITLE=Experimenta:geo:49.1442,9.2149
 3
END:VEVENT
BEGIN:VTIMEZONE
TZID:Europe/Berlin
X-LIC-LOCATION:Europe/Berlin
BEGIN:DAYLIGHT
DTSTART:20260329T030000
TZOFFSETFROM:+0100
TZOFFSETTO:+0200
TZNAME:CEST
END:DAYLIGHT
END:VTIMEZONE
END:VCALENDAR