BEGIN:VCALENDAR
VERSION:2.0
PRODID:-//wp-events-plugin.com//7.2.2.1//EN
TZID:Europe/Berlin
X-WR-TIMEZONE:Europe/Berlin
BEGIN:VEVENT
UID:2413@zappelino.de
DTSTART;TZID=Europe/Berlin:20260427T150000
DTEND;TZID=Europe/Berlin:20260427T152600
DTSTAMP:20260207T211649Z
URL:https://zappelino.de/veranstaltungen/die-grosse-abenteuerreise-durchs-
 sonnensystem-3d-21/
SUMMARY:Die große Abenteuerreise durchs Sonnensystem – 3D
DESCRIPTION:Der charismatische Entertainer Schiaparelli nimmt euch mit auf 
 eine spektakuläre Reise durch Raum und Zeit! In seinem wundersamen Observ
 atorium geht es von der glühend heißen Oberfläche des Merkur bis zu den
  eisigen Weiten des Pluto. Entdeckt die Wunder und Gefahren unseres Sonnen
 systems hautnah und lernt dabei\, wie kostbar unser Heimatplanet wirklich 
 ist. Aber Vorsicht: Diese Tour führt euch zu den gefährlichsten Orten de
 s Sonnensystems – eine Herausforderung\, die Mut und echte Flugkünste e
 rfordert. Dieses Abenteuer ist nichts für schwache Nerven!\n\nAb 8 Jahren
ATTACH;FMTTYPE=image/jpeg:https://zappelino.de/wp-content/uploads/2026/02/
 screenshot-2026-02-07-at-22-05-13-die-grosse-abenteuerreise-durchs-sonnens
 ystem-3d-experimenta.jpg
CATEGORIES:Bildung und Kultur
LOCATION:Experimenta\, Experimenta Platz\, Heilbronn\, Deutschland
GEO:49.1442;9.21493
X-APPLE-STRUCTURED-LOCATION;VALUE=URI;X-ADDRESS=Experimenta Platz\, Heilbro
 nn\, Deutschland;X-APPLE-RADIUS=100;X-TITLE=Experimenta:geo:49.1442,9.2149
 3
END:VEVENT
BEGIN:VTIMEZONE
TZID:Europe/Berlin
X-LIC-LOCATION:Europe/Berlin
BEGIN:DAYLIGHT
DTSTART:20260329T030000
TZOFFSETFROM:+0100
TZOFFSETTO:+0200
TZNAME:CEST
END:DAYLIGHT
END:VTIMEZONE
END:VCALENDAR