BEGIN:VCALENDAR
VERSION:2.0
PRODID:-//wp-events-plugin.com//7.2.2.1//EN
TZID:Europe/Berlin
X-WR-TIMEZONE:Europe/Berlin
BEGIN:VEVENT
UID:3229@zappelino.de
DTSTART;TZID=Europe/Berlin:20260503T160000
DTEND;TZID=Europe/Berlin:20260503T170000
DTSTAMP:20260419T195019Z
URL:https://zappelino.de/veranstaltungen/die-kleine-seejungfrau-mitspielth
 eater/
SUMMARY:Die kleine Seejungfrau - Mitspieltheater
DESCRIPTION:Märchentheaterstück für die ganze Familie (ab 4 Jahren)\n\nF
 rei nach dem Märchen von H.Chr. Andersen.\n\n\nGlücklich lebt die kleine
  Nixe mit ihren Schwestern in den Fluten des Meeres\, bis sie sich eines T
 ages unsterblich in einen wunderschönen Prinzen verliebt. Sie beschließt
 \, ihrer Sehnsucht zu folgen\, die sie in das Reich der Meereshexe führt\
 , wo sie ihre wunderschöne Stimme gegen zwei Beine eintauscht. Doch als s
 ie auftaucht\, wird sie enttäuscht\, denn der Prinz erkennt sie nicht. Nu
 n kann nur noch die Liebe einer Seele sie retten…\n\n
ATTACH;FMTTYPE=image/jpeg:https://zappelino.de/wp-content/uploads/2026/04/
 seejungfrau3-a-400x300-1.jpg
CATEGORIES:Kindertheater, Kinderkonzert
LOCATION:Galli Theater\, Oelberg 12\, Backnang\, 71522\, Deutschland
GEO:48.946512;9.431521
X-APPLE-STRUCTURED-LOCATION;VALUE=URI;X-ADDRESS=Oelberg 12\, Backnang\, 715
 22\, Deutschland;X-APPLE-RADIUS=100;X-TITLE=Galli Theater:geo:48.946512,9.
 431521
END:VEVENT
BEGIN:VTIMEZONE
TZID:Europe/Berlin
X-LIC-LOCATION:Europe/Berlin
BEGIN:DAYLIGHT
DTSTART:20260329T030000
TZOFFSETFROM:+0100
TZOFFSETTO:+0200
TZNAME:CEST
END:DAYLIGHT
END:VTIMEZONE
END:VCALENDAR