BEGIN:VCALENDAR
VERSION:2.0
PRODID:-//wp-events-plugin.com//7.2.2.1//EN
TZID:Europe/Berlin
X-WR-TIMEZONE:Europe/Berlin
BEGIN:VEVENT
UID:3104@zappelino.de
DTSTART;TZID=Europe/Berlin:20260422T163000
DTEND;TZID=Europe/Berlin:20260422T183000
DTSTAMP:20260406T194943Z
URL:https://zappelino.de/veranstaltungen/die-kreativ-naehwerkstatt-fuer-ki
 nder/
SUMMARY:Die Kreativ-Nähwerkstatt für Kinder
DESCRIPTION:
ATTACH;FMTTYPE=image/jpeg:https://zappelino.de/wp-content/uploads/2025/02/
 vhs-logo.jpg
CATEGORIES:Kreatives
LOCATION:VHS Beilstein\, Haupstr. 17\, Beilstein\, Deutschland
GEO:49.041022;9.314034
X-APPLE-STRUCTURED-LOCATION;VALUE=URI;X-ADDRESS=Haupstr. 17\, Beilstein\, D
 eutschland;X-APPLE-RADIUS=100;X-TITLE=VHS Beilstein:geo:49.041022,9.314034
END:VEVENT
BEGIN:VTIMEZONE
TZID:Europe/Berlin
X-LIC-LOCATION:Europe/Berlin
BEGIN:DAYLIGHT
DTSTART:20260329T030000
TZOFFSETFROM:+0100
TZOFFSETTO:+0200
TZNAME:CEST
END:DAYLIGHT
END:VTIMEZONE
END:VCALENDAR