BEGIN:VCALENDAR
VERSION:2.0
PRODID:-//wp-events-plugin.com//7.2.2.1//EN
TZID:Europe/Berlin
X-WR-TIMEZONE:Europe/Berlin
BEGIN:VEVENT
UID:2732@zappelino.de
DTSTART;TZID=Europe/Berlin:20260425T103000
DTEND;TZID=Europe/Berlin:20260425T105800
DTSTAMP:20260215T211824Z
URL:https://zappelino.de/veranstaltungen/die-legende-des-zauberriffs-3d-24
 /
SUMMARY:Die Legende des Zauberriffs – 3D
DESCRIPTION:\n\n\nNachdem ihr Heimatriff zerstört wird\, machen sich die F
 ische Jake\, Shorty und Indigo auf die Suche nach einem sagenumworbenen Ko
 rallenriff. Auf dieser Reise gilt es so manches Abenteuer zu bestehen. Auf
  spielerische und humorvolle Art und Weise schafft der Film ein Bewusstsei
 n für den Erhalt des einzigartigen Lebensraums der Korallenriffe.\n\nThem
 a Ökosystem Meer\, Plastik\nAb 6 Jahren\n\n\n
ATTACH;FMTTYPE=image/jpeg:https://zappelino.de/wp-content/uploads/2025/04/
 screenshot-2025-04-23-at-22-18-17-die-legende-des-zauberriffs-3d-experimen
 ta.jpg
CATEGORIES:Bildung und Kultur
LOCATION:Experimenta\, Experimenta Platz\, Heilbronn\, Deutschland
GEO:49.1442;9.21493
X-APPLE-STRUCTURED-LOCATION;VALUE=URI;X-ADDRESS=Experimenta Platz\, Heilbro
 nn\, Deutschland;X-APPLE-RADIUS=100;X-TITLE=Experimenta:geo:49.1442,9.2149
 3
END:VEVENT
BEGIN:VTIMEZONE
TZID:Europe/Berlin
X-LIC-LOCATION:Europe/Berlin
BEGIN:DAYLIGHT
DTSTART:20260329T030000
TZOFFSETFROM:+0100
TZOFFSETTO:+0200
TZNAME:CEST
END:DAYLIGHT
END:VTIMEZONE
END:VCALENDAR