BEGIN:VCALENDAR
VERSION:2.0
PRODID:-//wp-events-plugin.com//7.2.2.1//EN
TZID:Europe/Berlin
X-WR-TIMEZONE:Europe/Berlin
BEGIN:VEVENT
UID:3199@zappelino.de
DTSTART;TZID=Europe/Berlin:20260523T090000
DTEND;TZID=Europe/Berlin:20260523T120000
DTSTAMP:20260406T210110Z
URL:https://zappelino.de/veranstaltungen/du-und-der-loewe-in-dir-aufbaukur
 s-selbstbehauptungs-und-resilienztraining-fuer-kinder-von-5-7-jahren/
SUMMARY:Du und der Löwe in Dir - Aufbaukurs Selbstbehauptungs- und Resilie
 nztraining  für Kinder von 5 - 7 Jahren
DESCRIPTION:
ATTACH;FMTTYPE=image/jpeg:https://zappelino.de/wp-content/uploads/2025/02/
 vhs-logo.jpg
CATEGORIES:Bewegung und Spielen
LOCATION:VHS Schwaigern\, Kelterplatz 1\, Schwaigern\, Deutschland
GEO:49.141161;9.058487
X-APPLE-STRUCTURED-LOCATION;VALUE=URI;X-ADDRESS=Kelterplatz 1\, Schwaigern\
 , Deutschland;X-APPLE-RADIUS=100;X-TITLE=VHS Schwaigern:geo:49.141161,9.05
 8487
END:VEVENT
BEGIN:VTIMEZONE
TZID:Europe/Berlin
X-LIC-LOCATION:Europe/Berlin
BEGIN:DAYLIGHT
DTSTART:20260329T030000
TZOFFSETFROM:+0100
TZOFFSETTO:+0200
TZNAME:CEST
END:DAYLIGHT
END:VTIMEZONE
END:VCALENDAR