BEGIN:VCALENDAR
VERSION:2.0
PRODID:-//wp-events-plugin.com//7.2.2.1//EN
TZID:Europe/Berlin
X-WR-TIMEZONE:Europe/Berlin
BEGIN:VEVENT
UID:2656@zappelino.de
DTSTART;TZID=Europe/Berlin:20260428T090000
DTEND;TZID=Europe/Berlin:20260428T120000
DTSTAMP:20260209T173205Z
URL:https://zappelino.de/veranstaltungen/englisch-in-den-osterferien-fuer-
 schuelerinnen-und-schueler-der-6-klasse-realschule-und-gymnasium-2026-04-0
 7-2026-04-14-2026-04-21-2026-04-28/
SUMMARY:Englisch in den Osterferien für Schülerinnen und Schüler der 6. 
 Klasse Realschule und Gymnasium
DESCRIPTION:Kursnummer: 261GU40696\,
ATTACH;FMTTYPE=image/jpeg:https://zappelino.de/wp-content/uploads/2026/02/
 logovhs.jpg
CATEGORIES:Bildung und Kultur
LOCATION:VHS Gundelsheim\, Allee 40\, Heilbronn\, Deutschland
GEO:49.143605;9.223505
X-APPLE-STRUCTURED-LOCATION;VALUE=URI;X-ADDRESS=Allee 40\, Heilbronn\, Deut
 schland;X-APPLE-RADIUS=100;X-TITLE=VHS Gundelsheim:geo:49.143605,9.223505
END:VEVENT
BEGIN:VTIMEZONE
TZID:Europe/Berlin
X-LIC-LOCATION:Europe/Berlin
BEGIN:DAYLIGHT
DTSTART:20260329T030000
TZOFFSETFROM:+0100
TZOFFSETTO:+0200
TZNAME:CEST
END:DAYLIGHT
END:VTIMEZONE
END:VCALENDAR