BEGIN:VCALENDAR
VERSION:2.0
PRODID:-//wp-events-plugin.com//7.2.2.1//EN
TZID:Europe/Berlin
X-WR-TIMEZONE:Europe/Berlin
BEGIN:VEVENT
UID:2631@zappelino.de
DTSTART;TZID=Europe/Berlin:20260428T100000
DTEND;TZID=Europe/Berlin:20260429T120000
DTSTAMP:20260209T164840Z
URL:https://zappelino.de/veranstaltungen/englisch-power-kurs-vorbereitung-
 auf-die-realschul-abschlusspruefung-in-den-osterferien-2-2026-04-07-2026-0
 4-14-2026-04-21-2026-04-28/
SUMMARY:Englisch Power-Kurs Vorbereitung auf die Realschul-Abschlussprüfun
 g in den Osterferien
DESCRIPTION:
ATTACH;FMTTYPE=image/jpeg:https://zappelino.de/wp-content/uploads/2026/02/
 logovhs.jpg
LOCATION:VHS Schwaigern\, Kelterplatz 1\, Schwaigern\, Deutschland
GEO:49.141161;9.058487
X-APPLE-STRUCTURED-LOCATION;VALUE=URI;X-ADDRESS=Kelterplatz 1\, Schwaigern\
 , Deutschland;X-APPLE-RADIUS=100;X-TITLE=VHS Schwaigern:geo:49.141161,9.05
 8487
END:VEVENT
BEGIN:VTIMEZONE
TZID:Europe/Berlin
X-LIC-LOCATION:Europe/Berlin
BEGIN:DAYLIGHT
DTSTART:20260329T030000
TZOFFSETFROM:+0100
TZOFFSETTO:+0200
TZNAME:CEST
END:DAYLIGHT
END:VTIMEZONE
END:VCALENDAR