BEGIN:VCALENDAR
VERSION:2.0
PRODID:-//wp-events-plugin.com//7.2.2.1//EN
TZID:Europe/Berlin
X-WR-TIMEZONE:Europe/Berlin
BEGIN:VEVENT
UID:3083@zappelino.de
DTSTART;TZID=Europe/Berlin:20260508T143000
DTEND;TZID=Europe/Berlin:20260508T173000
DTSTAMP:20260406T192759Z
URL:https://zappelino.de/veranstaltungen/englisch-power-kurs-vorbereitung-
 auf-die-realschulabschlusspruefung-2026-04-17-2026-04-24-2026-05-01-2026-0
 5-08/
SUMMARY:Englisch Power-Kurs Vorbereitung auf die Realschulabschlussprüfung
DESCRIPTION:
ATTACH;FMTTYPE=image/jpeg:https://zappelino.de/wp-content/uploads/2026/02/
 logovhs.jpg
CATEGORIES:Bildung und Kultur
LOCATION:VHS Gundelsheim\, Allee 40\, Heilbronn\, Deutschland
GEO:49.143605;9.223505
X-APPLE-STRUCTURED-LOCATION;VALUE=URI;X-ADDRESS=Allee 40\, Heilbronn\, Deut
 schland;X-APPLE-RADIUS=100;X-TITLE=VHS Gundelsheim:geo:49.143605,9.223505
END:VEVENT
BEGIN:VTIMEZONE
TZID:Europe/Berlin
X-LIC-LOCATION:Europe/Berlin
BEGIN:DAYLIGHT
DTSTART:20260329T030000
TZOFFSETFROM:+0100
TZOFFSETTO:+0200
TZNAME:CEST
END:DAYLIGHT
END:VTIMEZONE
END:VCALENDAR