BEGIN:VCALENDAR
VERSION:2.0
PRODID:-//wp-events-plugin.com//7.2.2.1//EN
TZID:Europe/Berlin
X-WR-TIMEZONE:Europe/Berlin
BEGIN:VEVENT
UID:3155@zappelino.de
DTSTART;TZID=Europe/Berlin:20260622T090000
DTEND;TZID=Europe/Berlin:20260622T120000
DTSTAMP:20260406T202314Z
URL:https://zappelino.de/veranstaltungen/english-no-problem-fit-fuer-die-w
 eiterfuehrende-schule-intensivferienkurs-fuer-grundschulkinder-der-klassen
 -4-5/
SUMMARY:English - no problem! – Fit für die weiterführende Schule Inten
 sivferienkurs für Grundschulkinder der Klassen 4
DESCRIPTION:
ATTACH;FMTTYPE=image/jpeg:https://zappelino.de/wp-content/uploads/2025/02/
 vhs-logo.jpg
CATEGORIES:Bildung und Kultur
LOCATION:VHS Bad Wimpfen\, Langgasse 2\, Bad Wimpfen\, Deutschland
GEO:49.229242;9.162249
X-APPLE-STRUCTURED-LOCATION;VALUE=URI;X-ADDRESS=Langgasse 2\, Bad Wimpfen\,
  Deutschland;X-APPLE-RADIUS=100;X-TITLE=VHS Bad Wimpfen:geo:49.229242,9.16
 2249
END:VEVENT
BEGIN:VTIMEZONE
TZID:Europe/Berlin
X-LIC-LOCATION:Europe/Berlin
BEGIN:DAYLIGHT
DTSTART:20260329T030000
TZOFFSETFROM:+0100
TZOFFSETTO:+0200
TZNAME:CEST
END:DAYLIGHT
END:VTIMEZONE
END:VCALENDAR