BEGIN:VCALENDAR
VERSION:2.0
PRODID:-//wp-events-plugin.com//7.2.2.1//EN
TZID:Europe/Berlin
X-WR-TIMEZONE:Europe/Berlin
BEGIN:VEVENT
UID:3036@zappelino.de
DTSTART;TZID=Europe/Berlin:20260423T160000
DTEND;TZID=Europe/Berlin:20260423T164500
DTSTAMP:20260322T215128Z
URL:https://zappelino.de/veranstaltungen/entspannung-und-stressbewaeltigun
 g-fuer-grundschulkinder-2026-04-16-2026-04-23/
SUMMARY:Entspannung und Stressbewältigung für Grundschulkinder
DESCRIPTION:
ATTACH;FMTTYPE=image/jpeg:https://zappelino.de/wp-content/uploads/2026/02/
 logovhs.jpg
CATEGORIES:Bewegung und Spielen
LOCATION:VHS Eberstadt\, Allee 40\, Heilbronn\, Deutschland
GEO:49.143605;9.223505
X-APPLE-STRUCTURED-LOCATION;VALUE=URI;X-ADDRESS=Allee 40\, Heilbronn\, Deut
 schland;X-APPLE-RADIUS=100;X-TITLE=VHS Eberstadt:geo:49.143605,9.223505
END:VEVENT
BEGIN:VTIMEZONE
TZID:Europe/Berlin
X-LIC-LOCATION:Europe/Berlin
BEGIN:DAYLIGHT
DTSTART:20260329T030000
TZOFFSETFROM:+0100
TZOFFSETTO:+0200
TZNAME:CEST
END:DAYLIGHT
END:VTIMEZONE
END:VCALENDAR