BEGIN:VCALENDAR
VERSION:2.0
PRODID:-//wp-events-plugin.com//7.2.2.1//EN
TZID:Europe/Berlin
X-WR-TIMEZONE:Europe/Berlin
BEGIN:VEVENT
UID:3187@zappelino.de
DTSTART;TZID=Europe/Berlin:20260514T180000
DTEND;TZID=Europe/Berlin:20260514T201500
DTSTAMP:20260406T204720Z
URL:https://zappelino.de/veranstaltungen/erfolgreich-lernen-mit-ki-als-ler
 nbegleitung-online-fuer-schuelerinnen-ab-klasse-9-und-studierende/
SUMMARY:Erfolgreich Lernen mit KI als Lernbegleitung (online) für Schüler
 *innen ab Klasse 9 und Studierende
DESCRIPTION:
ATTACH;FMTTYPE=image/jpeg:https://zappelino.de/wp-content/uploads/2025/02/
 vhs-logo.jpg
CATEGORIES:Bildung und Kultur
END:VEVENT
BEGIN:VTIMEZONE
TZID:Europe/Berlin
X-LIC-LOCATION:Europe/Berlin
BEGIN:DAYLIGHT
DTSTART:20260329T030000
TZOFFSETFROM:+0100
TZOFFSETTO:+0200
TZNAME:CEST
END:DAYLIGHT
END:VTIMEZONE
END:VCALENDAR