BEGIN:VCALENDAR
VERSION:2.0
PRODID:-//wp-events-plugin.com//7.2.2.1//EN
TZID:Europe/Berlin
X-WR-TIMEZONE:Europe/Berlin
BEGIN:VEVENT
UID:3064@zappelino.de
DTSTART;TZID=Europe/Berlin:20260425T110000
DTEND;TZID=Europe/Berlin:20260426T170000
DTSTAMP:20260330T174000Z
URL:https://zappelino.de/veranstaltungen/eroeffnungswochenende-ernst-franz
 -vogelmann-preis-an-andrea-pichl-feiern-sie-mit-uns/
SUMMARY:Eröffnungswochenende: Ernst Franz Vogelmann-Preis an Andrea Pichl:
  Feiern Sie mit uns!
DESCRIPTION:Die Werke der in der DDR sozialisierten Künstlerin beschäftig
 en sich mit Architektur\, Stadtplanung und sozialen Räumen.\n\nSamstag\, 
 25.04.\, 14:00 bis 17:00 Uhr mit Imbiss\, Getränken und Kurzführungen\n\
 nEintritt frei. Ermöglicht durch die Ernst Franz Vogelmann-Stiftung.
ATTACH;FMTTYPE=image/jpeg:https://zappelino.de/wp-content/uploads/2026/03/
 andrea-pichl-gartenlaube-gl-19-2024-vg-bild-kunst-bonn-2026-foto-marcus-ba
 hra.jpg
CATEGORIES:Bildung und Kultur
LOCATION:Kunsthalle Vogelmann\, Allee 28\, Heilbronn\, Deutschland
GEO:49.142556;9.223674
X-APPLE-STRUCTURED-LOCATION;VALUE=URI;X-ADDRESS=Allee 28\, Heilbronn\, Deut
 schland;X-APPLE-RADIUS=100;X-TITLE=Kunsthalle Vogelmann:geo:49.142556,9.22
 3674
END:VEVENT
BEGIN:VTIMEZONE
TZID:Europe/Berlin
X-LIC-LOCATION:Europe/Berlin
BEGIN:DAYLIGHT
DTSTART:20260329T030000
TZOFFSETFROM:+0100
TZOFFSETTO:+0200
TZNAME:CEST
END:DAYLIGHT
END:VTIMEZONE
END:VCALENDAR