BEGIN:VCALENDAR
VERSION:2.0
PRODID:-//wp-events-plugin.com//7.2.2.1//EN
TZID:Europe/Berlin
X-WR-TIMEZONE:Europe/Berlin
BEGIN:VEVENT
UID:2431@zappelino.de
DTSTART;TZID=Europe/Berlin:20260425T113000
DTEND;TZID=Europe/Berlin:20260425T115800
DTSTAMP:20260207T213122Z
URL:https://zappelino.de/veranstaltungen/expedition-reef-42/
SUMMARY:Expedition Reef
DESCRIPTION:Besuche bei einer 360°-Ozeansafari die dynamischsten und am st
 ärksten gefährdeten Meeres-Ökosysteme der Welt. Erfahre\, wie Korallen 
 leben und welchen Gefahren den Riffbewohner durch Klimawandel und Überfis
 chung drohen. „Dies ist ein Wendepunkt für Riffe“\, sagt die Wissensc
 haftlerin und Riff-Expertin Dr. Rebecca Albright\, „aber es ist noch nic
 ht zu spät.“\n\nEin Erlebnis für alle ab 10 Jahren.
ATTACH;FMTTYPE=image/jpeg:https://zappelino.de/wp-content/uploads/2025/04/
 screenshot-2025-04-23-at-22-25-19-expedition-reef-experimenta.jpg
CATEGORIES:Bildung und Kultur
LOCATION:Experimenta\, Experimenta Platz\, Heilbronn\, Deutschland
GEO:49.1442;9.21493
X-APPLE-STRUCTURED-LOCATION;VALUE=URI;X-ADDRESS=Experimenta Platz\, Heilbro
 nn\, Deutschland;X-APPLE-RADIUS=100;X-TITLE=Experimenta:geo:49.1442,9.2149
 3
END:VEVENT
BEGIN:VTIMEZONE
TZID:Europe/Berlin
X-LIC-LOCATION:Europe/Berlin
BEGIN:DAYLIGHT
DTSTART:20260329T030000
TZOFFSETFROM:+0100
TZOFFSETTO:+0200
TZNAME:CEST
END:DAYLIGHT
END:VTIMEZONE
END:VCALENDAR