BEGIN:VCALENDAR
VERSION:2.0
PRODID:-//wp-events-plugin.com//7.2.2.1//EN
TZID:Europe/Berlin
X-WR-TIMEZONE:Europe/Berlin
BEGIN:VEVENT
UID:3066@zappelino.de
DTSTART;TZID=Europe/Berlin:20260424T150000
DTEND;TZID=Europe/Berlin:20260424T170000
DTSTAMP:20260406T192128Z
URL:https://zappelino.de/veranstaltungen/experimentieren-spachteln-staunen
 -kreativspass-fuer-kinder-von-8-12-jahren-2/
SUMMARY:Experimentieren\, Spachteln\, Staunen Kreativspaß für Kinder  von
  8 - 12 Jahren
DESCRIPTION:
ATTACH;FMTTYPE=image/jpeg:https://zappelino.de/wp-content/uploads/2026/02/
 logovhs.jpg
CATEGORIES:Kreatives
LOCATION:VHS Neuenstadt\, Hofgartenstraße 28\, Neuenstadt\, Deutschland
GEO:49.235967;9.336548
X-APPLE-STRUCTURED-LOCATION;VALUE=URI;X-ADDRESS=Hofgartenstraße 28\, Neuen
 stadt\, Deutschland;X-APPLE-RADIUS=100;X-TITLE=VHS Neuenstadt:geo:49.23596
 7,9.336548
END:VEVENT
BEGIN:VTIMEZONE
TZID:Europe/Berlin
X-LIC-LOCATION:Europe/Berlin
BEGIN:DAYLIGHT
DTSTART:20260329T030000
TZOFFSETFROM:+0100
TZOFFSETTO:+0200
TZNAME:CEST
END:DAYLIGHT
END:VTIMEZONE
END:VCALENDAR