BEGIN:VCALENDAR
VERSION:2.0
PRODID:-//wp-events-plugin.com//7.2.2.1//EN
TZID:Europe/Berlin
X-WR-TIMEZONE:Europe/Berlin
BEGIN:VEVENT
UID:3219@zappelino.de
DTSTART;TZID=Europe/Berlin:20260514T100000
DTEND;TZID=Europe/Berlin:20260514T180000
DTSTAMP:20260419T193626Z
URL:https://zappelino.de/veranstaltungen/familienausflug-einsalles-ein-erl
 ebnis-fuer-dich-und-deine-sinne-33/
SUMMARY:Familienausflug EINS+ALLES - ein Erlebnis für dich und deine Sinne
DESCRIPTION:Staunt\, wozu eure Sinne in der Lage sind – an unzähligen St
 ationen innen und außen\, mitten im idyllischen Welzheimer Wald! Walderle
 bnispfad\, große Spielburg\, Gastronomie und viele Sinnesstationen im Inn
 enbereich – Erlebnisse für jedes Alter und für einen ganzen Tag.\n\nT
 äglich geöffnet von 10 bis 18 Uhr. Alle Infos unter www.eins-und-alles.d
 e
ATTACH;FMTTYPE=image/jpeg:https://zappelino.de/wp-content/uploads/2026/04/
 bild1.jpg
CATEGORIES:Natur
LOCATION:EINS+ALLES Erfahrungsfeld der Sinne\, Laufenmühle 8\, 73642\, Sch
 orndorf\, Welzheim\, Re\, Deutschland
GEO:48.882108;9.605718
X-APPLE-STRUCTURED-LOCATION;VALUE=URI;X-ADDRESS=Laufenmühle 8\, 73642\, Sc
 horndorf\, Welzheim\, Re\, Deutschland;X-APPLE-RADIUS=100;X-TITLE=EINS+ALL
 ES Erfahrungsfeld der Sinne:geo:48.882108,9.605718
END:VEVENT
BEGIN:VTIMEZONE
TZID:Europe/Berlin
X-LIC-LOCATION:Europe/Berlin
BEGIN:DAYLIGHT
DTSTART:20260329T030000
TZOFFSETFROM:+0100
TZOFFSETTO:+0200
TZNAME:CEST
END:DAYLIGHT
END:VTIMEZONE
END:VCALENDAR