BEGIN:VCALENDAR
VERSION:2.0
PRODID:-//wp-events-plugin.com//7.2.2.1//EN
TZID:Europe/Berlin
X-WR-TIMEZONE:Europe/Berlin
BEGIN:VEVENT
UID:2985@zappelino.de
DTSTART;TZID=Europe/Berlin:20260527T140000
DTEND;TZID=Europe/Berlin:20260527T160000
DTSTAMP:20260318T140018Z
URL:https://zappelino.de/veranstaltungen/ferienwerkstatt-ab-6-jahren-mutig
 -glaenzend-geschmueckt-und-geschuetzt/
SUMMARY:Ferienwerkstatt (ab 6 Jahren) „Mutig\, glänzend\, geschmückt u
 nd geschützt“
DESCRIPTION:Womit schmückten sich die Menschen einst\, was brachte ihnen G
 lück und Mut? Und was kann uns die Archäologie darüber verraten? Inspir
 iert durch die Funde aus längst vergangenen Zeiten entsteht im Anschluss 
 ein glänzendes Erinnerungsstück zum Mitnehmen.\n\n4 Euro pro Person.\n\n
 \nAnmeldung erforderlich bis 26.05.\, 12 Uhr unter 07131 56-2295 oder muse
 um.buchungen@heilbronn.de\nBitte geben Sie den Titel und das Datum der Ver
 anstaltung\, Ihren Namen und Ihre Telefonnummer\, sowie die Namen und Alte
 r der teilnehmenden Kinder an.\n
ATTACH;FMTTYPE=image/jpeg:https://zappelino.de/wp-content/uploads/2026/03/
 kinderwerkstatt-staedtische-museen-heilbronn-foto-terzo-algeri-2021-fotoat
 elier-m3.jpg
CATEGORIES:Bildung und Kultur,Kreatives
LOCATION:Museum im Deutschhof\, Deutschhofstraße 6\, Heilbronn\, Deutschla
 nd
GEO:49.140893;9.217715
X-APPLE-STRUCTURED-LOCATION;VALUE=URI;X-ADDRESS=Deutschhofstraße 6\, Heilb
 ronn\, Deutschland;X-APPLE-RADIUS=100;X-TITLE=Museum im Deutschhof:geo:49.
 140893,9.217715
END:VEVENT
BEGIN:VTIMEZONE
TZID:Europe/Berlin
X-LIC-LOCATION:Europe/Berlin
BEGIN:DAYLIGHT
DTSTART:20260329T030000
TZOFFSETFROM:+0100
TZOFFSETTO:+0200
TZNAME:CEST
END:DAYLIGHT
END:VTIMEZONE
END:VCALENDAR