BEGIN:VCALENDAR
VERSION:2.0
PRODID:-//wp-events-plugin.com//7.2.2.1//EN
TZID:Europe/Berlin
X-WR-TIMEZONE:Europe/Berlin
BEGIN:VEVENT
UID:2987@zappelino.de
DTSTART;TZID=Europe/Berlin:20260602T150000
DTEND;TZID=Europe/Berlin:20260602T160000
DTSTAMP:20260318T140433Z
URL:https://zappelino.de/veranstaltungen/fuehrung-heldenschmuck-und-fuerst
 innenglanz/
SUMMARY:Führung „Heldenschmuck und Fürstinnenglanz“
DESCRIPTION:Zierde und Schmuck durch die archäologischen Epochen in Heilbr
 onn.\n\n3 Euro pro Person.
ATTACH;FMTTYPE=image/jpeg:https://zappelino.de/wp-content/uploads/2026/03/
 keltische-knotenarmreife-staedtische-museen-heilbronn-foto-frank-kleinbach
 .jpg
CATEGORIES:Bildung und Kultur
LOCATION:Museum im Deutschhof\, Deutschhofstraße 6\, Heilbronn\, Deutschla
 nd
GEO:49.140893;9.217715
X-APPLE-STRUCTURED-LOCATION;VALUE=URI;X-ADDRESS=Deutschhofstraße 6\, Heilb
 ronn\, Deutschland;X-APPLE-RADIUS=100;X-TITLE=Museum im Deutschhof:geo:49.
 140893,9.217715
END:VEVENT
BEGIN:VTIMEZONE
TZID:Europe/Berlin
X-LIC-LOCATION:Europe/Berlin
BEGIN:DAYLIGHT
DTSTART:20260329T030000
TZOFFSETFROM:+0100
TZOFFSETTO:+0200
TZNAME:CEST
END:DAYLIGHT
END:VTIMEZONE
END:VCALENDAR