BEGIN:VCALENDAR
VERSION:2.0
PRODID:-//wp-events-plugin.com//7.2.2.1//EN
TZID:Europe/Berlin
X-WR-TIMEZONE:Europe/Berlin
BEGIN:VEVENT
UID:2287@zappelino.de
DTSTART;TZID=Europe/Berlin:20260428T173000
DTEND;TZID=Europe/Berlin:20260428T183000
DTSTAMP:20260120T115447Z
URL:https://zappelino.de/veranstaltungen/highlight-fuehrung-empfindung-und
 -ekstase-ausdruck-und-form-malerei-und-plastik-der-klassischen-moderne-mod
 erne-und-postmoderne/
SUMMARY:Highlight-Führung „Empfindung und Ekstase\, Ausdruck und Form 
 – Malerei und Plastik der Klassischen Moderne\, Moderne und Postmoderne
 “
DESCRIPTION:Highlight-Führung „Empfindung und Ekstase\, Ausdruck und Fo
 rm – Malerei und Plastik der Klassischen Moderne\, Moderne und Postmoder
 ne“ durch die neue Kunstsammlung und das Studio Vogelmann. \n\n3 Euro p
 ro Person.
ATTACH;FMTTYPE=image/jpeg:https://zappelino.de/wp-content/uploads/2025/05/
 dauerausstellung-kunst-im-museum-im-deutschhof.jpg
CATEGORIES:Bildung und Kultur
LOCATION:Museum im Deutschhof\, Deutschhofstraße 6\, Heilbronn\, Deutschla
 nd
GEO:49.140893;9.217715
X-APPLE-STRUCTURED-LOCATION;VALUE=URI;X-ADDRESS=Deutschhofstraße 6\, Heilb
 ronn\, Deutschland;X-APPLE-RADIUS=100;X-TITLE=Museum im Deutschhof:geo:49.
 140893,9.217715
END:VEVENT
BEGIN:VTIMEZONE
TZID:Europe/Berlin
X-LIC-LOCATION:Europe/Berlin
BEGIN:DAYLIGHT
DTSTART:20260329T030000
TZOFFSETFROM:+0100
TZOFFSETTO:+0200
TZNAME:CEST
END:DAYLIGHT
END:VTIMEZONE
END:VCALENDAR