BEGIN:VCALENDAR
VERSION:2.0
PRODID:-//wp-events-plugin.com//7.2.2.1//EN
TZID:Europe/Berlin
X-WR-TIMEZONE:Europe/Berlin
BEGIN:VEVENT
UID:2983@zappelino.de
DTSTART;TZID=Europe/Berlin:20260517T140000
DTEND;TZID=Europe/Berlin:20260517T150000
DTSTAMP:20260318T135145Z
URL:https://zappelino.de/veranstaltungen/highlight-fuehrung-zum-internatio
 nalen-museumstag-fuer-familien-ab-6-jahren-durch-die-neuen-sammlungsbereic
 he-des-museums-im-deutschhof/
SUMMARY:Highlight- Führung zum Internationalen Museumstag für Familien (a
 b 6 Jahren) durch die neuen Sammlungsbereiche des Museums im Deutschhof
DESCRIPTION:Erstmals in der fast 150-jährigen Geschichte der Heilbronner M
 useen sind seit 2026 die Sammlungen zur Archäologie sowie zur Natur-\, Ku
 ltur- und Kunstgeschichte in chronologischer Abfolge unter einem Dach vere
 int. Aus allen vier Bereichen werden ausgewählte Highlights von den Fossi
 lien der Triaszeit bis hin zu den Kunstwerken der Neuzeit präsentiert.\n\
 nKostenfrei
ATTACH;FMTTYPE=image/jpeg:https://zappelino.de/wp-content/uploads/2026/03/
 staedtische-kunstsammlung-staedtische-museen-heilbronn-foto-erich-benz.jpg
CATEGORIES:Bildung und Kultur
LOCATION:Museum im Deutschhof\, Deutschhofstraße 6\, Heilbronn\, Deutschla
 nd
GEO:49.140893;9.217715
X-APPLE-STRUCTURED-LOCATION;VALUE=URI;X-ADDRESS=Deutschhofstraße 6\, Heilb
 ronn\, Deutschland;X-APPLE-RADIUS=100;X-TITLE=Museum im Deutschhof:geo:49.
 140893,9.217715
END:VEVENT
BEGIN:VTIMEZONE
TZID:Europe/Berlin
X-LIC-LOCATION:Europe/Berlin
BEGIN:DAYLIGHT
DTSTART:20260329T030000
TZOFFSETFROM:+0100
TZOFFSETTO:+0200
TZNAME:CEST
END:DAYLIGHT
END:VTIMEZONE
END:VCALENDAR