BEGIN:VCALENDAR
VERSION:2.0
PRODID:-//wp-events-plugin.com//7.2.2.1//EN
TZID:Europe/Berlin
X-WR-TIMEZONE:Europe/Berlin
BEGIN:VEVENT
UID:3127@zappelino.de
DTSTART;TZID=Europe/Berlin:20260505T154500
DTEND;TZID=Europe/Berlin:20260505T171500
DTSTAMP:20260406T201028Z
URL:https://zappelino.de/veranstaltungen/inline-skating-einsteigerkurs-fue
 r-klein-und-gross/
SUMMARY:Inline Skating Einsteigerkurs für Klein und Groß
DESCRIPTION:
ATTACH;FMTTYPE=image/jpeg:https://zappelino.de/wp-content/uploads/2025/02/
 vhs-logo.jpg
CATEGORIES:Bewegung und Spielen
LOCATION:VHS Cleebronn\, Kurt-Fischer-Str. 13\, Cleebronn\, Deutschland
GEO:49.041781;9.040251
X-APPLE-STRUCTURED-LOCATION;VALUE=URI;X-ADDRESS=Kurt-Fischer-Str. 13\, Clee
 bronn\, Deutschland;X-APPLE-RADIUS=100;X-TITLE=VHS Cleebronn:geo:49.041781
 ,9.040251
END:VEVENT
BEGIN:VTIMEZONE
TZID:Europe/Berlin
X-LIC-LOCATION:Europe/Berlin
BEGIN:DAYLIGHT
DTSTART:20260329T030000
TZOFFSETFROM:+0100
TZOFFSETTO:+0200
TZNAME:CEST
END:DAYLIGHT
END:VTIMEZONE
END:VCALENDAR