BEGIN:VCALENDAR
VERSION:2.0
PRODID:-//wp-events-plugin.com//7.2.2.1//EN
TZID:Europe/Berlin
X-WR-TIMEZONE:Europe/Berlin
BEGIN:VEVENT
UID:2702@zappelino.de
DTSTART;TZID=Europe/Berlin:20260512T100000
DTEND;TZID=Europe/Berlin:20260512T120000
DTSTAMP:20260210T112539Z
URL:https://zappelino.de/veranstaltungen/kinder-kunst-tag/
SUMMARY:Kinder-Kunst-Tag
DESCRIPTION:ab ca. 5 Jahren\n\nSie lernen etwas über den Marionettenbau\, 
 das Marionettenspiel\, wie eine Inszenierung entsteht und die Theatergesch
 ichte von Baden-Württembergs größtem und ältesten Marionettentheater.
ATTACH;FMTTYPE=image/jpeg:https://zappelino.de/wp-content/uploads/2026/02/
 screenshot-2026-02-10-at-12-19-54-veranstaltungen-schwaebisch-hall-gerhard
 s-marionettentheater.jpg
CATEGORIES:Bildung und Kultur,Kreatives,Marionettentheater, Puppentheater,
 Kasperltheater
LOCATION:Theater im Schafstall\, Im Lindach 9\, Schwäbisch Hall\, 74523\, 
 Deutschland
GEO:49.108793;9.735973
X-APPLE-STRUCTURED-LOCATION;VALUE=URI;X-ADDRESS=Im Lindach 9\, Schwäbisch 
 Hall\, 74523\, Deutschland;X-APPLE-RADIUS=100;X-TITLE=Theater im Schafstal
 l:geo:49.108793,9.735973
END:VEVENT
BEGIN:VTIMEZONE
TZID:Europe/Berlin
X-LIC-LOCATION:Europe/Berlin
BEGIN:DAYLIGHT
DTSTART:20260329T030000
TZOFFSETFROM:+0100
TZOFFSETTO:+0200
TZNAME:CEST
END:DAYLIGHT
END:VTIMEZONE
END:VCALENDAR