BEGIN:VCALENDAR
VERSION:2.0
PRODID:-//wp-events-plugin.com//7.2.2.1//EN
TZID:Europe/Berlin
X-WR-TIMEZONE:Europe/Berlin
BEGIN:VEVENT
UID:2703@zappelino.de
DTSTART;TZID=Europe/Berlin:20260513T140000
DTEND;TZID=Europe/Berlin:20260513T170000
DTSTAMP:20260210T113139Z
URL:https://zappelino.de/veranstaltungen/kinderfest/
SUMMARY:Kinderfest
DESCRIPTION:Angeboten wird unter anderem:\n\n 	Schmetterlingsflug‐Spiel i
 m Saal\n 	Gespenster‐Ballons\n 	Glücksrad mit attraktiven Preisen\n 	Ma
 rionetten‐Ausstellung\n 	Marionettenspiel-Möglichkeit\nWer einmal eine 
 Marionette in die Hand nehmen und ausprobieren möchte hat\, hier die Gele
 genheit!\n
ATTACH;FMTTYPE=image/jpeg:https://zappelino.de/wp-content/uploads/2026/02/
 screenshot-2026-02-10-at-12-26-02-veranstaltungen-schwaebisch-hall-gerhard
 s-marionettentheater.jpg
CATEGORIES:Bewegung und Spielen,Bildung und
 Kultur,Kreatives,Marionettentheater, Puppentheater, Kasperltheater
LOCATION:Theater im Schafstall\, Im Lindach 9\, Schwäbisch Hall\, 74523\, 
 Deutschland
GEO:49.108793;9.735973
X-APPLE-STRUCTURED-LOCATION;VALUE=URI;X-ADDRESS=Im Lindach 9\, Schwäbisch 
 Hall\, 74523\, Deutschland;X-APPLE-RADIUS=100;X-TITLE=Theater im Schafstal
 l:geo:49.108793,9.735973
END:VEVENT
BEGIN:VTIMEZONE
TZID:Europe/Berlin
X-LIC-LOCATION:Europe/Berlin
BEGIN:DAYLIGHT
DTSTART:20260329T030000
TZOFFSETFROM:+0100
TZOFFSETTO:+0200
TZNAME:CEST
END:DAYLIGHT
END:VTIMEZONE
END:VCALENDAR