BEGIN:VCALENDAR
VERSION:2.0
PRODID:-//wp-events-plugin.com//7.2.2.1//EN
TZID:Europe/Berlin
X-WR-TIMEZONE:Europe/Berlin
BEGIN:VEVENT
UID:3179@zappelino.de
DTSTART;TZID=Europe/Berlin:20260509T100000
DTEND;TZID=Europe/Berlin:20260509T143000
DTSTAMP:20260406T203832Z
URL:https://zappelino.de/veranstaltungen/kochen-mit-peter-und-mona-von-6-1
 3-jahren/
SUMMARY:Kochen mit Peter und Mona von 6 - 13 Jahren
DESCRIPTION:
ATTACH;FMTTYPE=image/jpeg:https://zappelino.de/wp-content/uploads/2025/02/
 vhs-logo.jpg
CATEGORIES:Kulinarisches
LOCATION:VHS Cleebronn\, Kurt-Fischer-Str. 13\, Cleebronn\, Deutschland
GEO:49.041781;9.040251
X-APPLE-STRUCTURED-LOCATION;VALUE=URI;X-ADDRESS=Kurt-Fischer-Str. 13\, Clee
 bronn\, Deutschland;X-APPLE-RADIUS=100;X-TITLE=VHS Cleebronn:geo:49.041781
 ,9.040251
END:VEVENT
BEGIN:VTIMEZONE
TZID:Europe/Berlin
X-LIC-LOCATION:Europe/Berlin
BEGIN:DAYLIGHT
DTSTART:20260329T030000
TZOFFSETFROM:+0100
TZOFFSETTO:+0200
TZNAME:CEST
END:DAYLIGHT
END:VTIMEZONE
END:VCALENDAR