BEGIN:VCALENDAR
VERSION:2.0
PRODID:-//wp-events-plugin.com//7.2.2.1//EN
TZID:Europe/Berlin
X-WR-TIMEZONE:Europe/Berlin
BEGIN:VEVENT
UID:3184@zappelino.de
DTSTART;TZID=Europe/Berlin:20260509T143000
DTEND;TZID=Europe/Berlin:20260509T173000
DTSTAMP:20260406T204322Z
URL:https://zappelino.de/veranstaltungen/kosmetik-manufaktur-fuer-kinder-v
 on-8-13-jahren/
SUMMARY:Kosmetik-Manufaktur für Kinder von 8 – 13 Jahren
DESCRIPTION:
ATTACH;FMTTYPE=image/jpeg:https://zappelino.de/wp-content/uploads/2025/02/
 vhs-logo.jpg
CATEGORIES:Kreatives
LOCATION:VHS Lauffen\, Bahnhofstr. 50\, Lauffen\, Deutschland
GEO:49.07639;9.14688
X-APPLE-STRUCTURED-LOCATION;VALUE=URI;X-ADDRESS=Bahnhofstr. 50\, Lauffen\, 
 Deutschland;X-APPLE-RADIUS=100;X-TITLE=VHS Lauffen:geo:49.07639,9.14688
END:VEVENT
BEGIN:VTIMEZONE
TZID:Europe/Berlin
X-LIC-LOCATION:Europe/Berlin
BEGIN:DAYLIGHT
DTSTART:20260329T030000
TZOFFSETFROM:+0100
TZOFFSETTO:+0200
TZNAME:CEST
END:DAYLIGHT
END:VTIMEZONE
END:VCALENDAR