BEGIN:VCALENDAR
VERSION:2.0
PRODID:-//wp-events-plugin.com//7.2.2.1//EN
TZID:Europe/Berlin
X-WR-TIMEZONE:Europe/Berlin
BEGIN:VEVENT
UID:3201@zappelino.de
DTSTART;TZID=Europe/Berlin:20260502T170000
DTEND;TZID=Europe/Berlin:20260502T234500
DTSTAMP:20260410T124812Z
URL:https://zappelino.de/veranstaltungen/lange-kunstnacht/
SUMMARY:Lange KunstNacht
DESCRIPTION:Kunst\, Kultur und Begegnungen in der illumierten Altstadt
ATTACH;FMTTYPE=image/jpeg:https://zappelino.de/wp-content/uploads/2026/04/
 kunsnacht.jpg
CATEGORIES:Bildung und Kultur
END:VEVENT
BEGIN:VTIMEZONE
TZID:Europe/Berlin
X-LIC-LOCATION:Europe/Berlin
BEGIN:DAYLIGHT
DTSTART:20260329T030000
TZOFFSETFROM:+0100
TZOFFSETTO:+0200
TZNAME:CEST
END:DAYLIGHT
END:VTIMEZONE
END:VCALENDAR