BEGIN:VCALENDAR
VERSION:2.0
PRODID:-//wp-events-plugin.com//7.2.2.1//EN
TZID:Europe/Berlin
X-WR-TIMEZONE:Europe/Berlin
BEGIN:VEVENT
UID:2369@zappelino.de
DTSTART;TZID=Europe/Berlin:20260424T150000
DTEND;TZID=Europe/Berlin:20260424T152800
DTSTAMP:20260207T204943Z
URL:https://zappelino.de/veranstaltungen/limbradur-3d-24/
SUMMARY:Limbradur – 3D
DESCRIPTION:Warum fallen Äpfel auf den Boden? Das ist die einfache Ausgang
 sfrage\, die sich der berühmte Physiker Isaac Newton stellte. Mehr als 30
 0 Jahre später ist es Albert Einstein\, der es uns ermöglicht\, eine and
 ere Perspektive zu dieser Frage einzunehmen. Der 12-jährige Limbradur dri
 ngt nachts in das berühmte Albert Einstein Museum ein. Dort trifft er auf
  Alby X3\, einen kleinen und kauzigen Wissensroboter\, der ihm die revolut
 ionären Ideen Einsteins erklärt und mit ihm auf eine fantastische Entdec
 kungsreise durch Raum und Zeit aufbricht.\n\nThema Schwerkraft\nAb 6 Jahre
 n
ATTACH;FMTTYPE=image/jpeg:https://zappelino.de/wp-content/uploads/2025/04/
 screenshot-2025-04-14-at-20-58-03-limbradur-3d-die-magie-der-schwerkraft-e
 xperimenta.jpg
CATEGORIES:Bildung und Kultur
LOCATION:Experimenta\, Experimenta Platz\, Heilbronn\, Deutschland
GEO:49.1442;9.21493
X-APPLE-STRUCTURED-LOCATION;VALUE=URI;X-ADDRESS=Experimenta Platz\, Heilbro
 nn\, Deutschland;X-APPLE-RADIUS=100;X-TITLE=Experimenta:geo:49.1442,9.2149
 3
END:VEVENT
BEGIN:VTIMEZONE
TZID:Europe/Berlin
X-LIC-LOCATION:Europe/Berlin
BEGIN:DAYLIGHT
DTSTART:20260329T030000
TZOFFSETFROM:+0100
TZOFFSETTO:+0200
TZNAME:CEST
END:DAYLIGHT
END:VTIMEZONE
END:VCALENDAR