BEGIN:VCALENDAR
VERSION:2.0
PRODID:-//wp-events-plugin.com//7.2.2.1//EN
TZID:Europe/Berlin
X-WR-TIMEZONE:Europe/Berlin
BEGIN:VEVENT
UID:2643@zappelino.de
DTSTART;TZID=Europe/Berlin:20260428T090000
DTEND;TZID=Europe/Berlin:20260428T120000
DTSTAMP:20260209T170928Z
URL:https://zappelino.de/veranstaltungen/mathematik-power-kurs-vorbereitun
 g-auf-die-realschul-abschlusspruefung-6-2026-04-07-2026-04-14-2026-04-21-2
 026-04-28/
SUMMARY:Mathematik Power-Kurs Vorbereitung auf die Realschul-Abschlussprüf
 ung
DESCRIPTION:Kursnummer: 261OS60712
ATTACH;FMTTYPE=image/jpeg:https://zappelino.de/wp-content/uploads/2026/02/
 logovhs.jpg
CATEGORIES:Bildung und Kultur
LOCATION:VHS Obersulm\, Rathausgasse 4\, Obersulm\, Deutschland
GEO:49.132953;9.377622
X-APPLE-STRUCTURED-LOCATION;VALUE=URI;X-ADDRESS=Rathausgasse 4\, Obersulm\,
  Deutschland;X-APPLE-RADIUS=100;X-TITLE=VHS Obersulm:geo:49.132953,9.37762
 2
END:VEVENT
BEGIN:VTIMEZONE
TZID:Europe/Berlin
X-LIC-LOCATION:Europe/Berlin
BEGIN:DAYLIGHT
DTSTART:20260329T030000
TZOFFSETFROM:+0100
TZOFFSETTO:+0200
TZNAME:CEST
END:DAYLIGHT
END:VTIMEZONE
END:VCALENDAR